BEGIN:VCALENDAR
VERSION:2.0
PRODID:VSD-Portal-www.volley.de
METHOD:PUBLISH
BEGIN:VEVENT
UID:164704-0b1cb5f82de24c98f11e829bddb1f0f9
X-WR-RELCALID:164704-0b1cb5f82de24c98f11e829bddb1f0f9
ORGANIZER:Volleyball
SEQUENCE:261152047
LOCATION:Mittelschulturnhalle, Roither Weg 15, 93173 Wenzenbach
GEO:49.07612000000000000000;12.18890000000000000000
SUMMARY:KM U13 So w: SpVgg Hainsacker - TSV Neutraubling
CLASS:PUBLIC
DTSTART:20161009T080000Z
DTSTAMP:20161023T125200Z
END:VEVENT
BEGIN:VEVENT
UID:164710-0b1cb5f82de24c98f11e829bddb1f0f9
X-WR-RELCALID:164710-0b1cb5f82de24c98f11e829bddb1f0f9
ORGANIZER:Volleyball
SEQUENCE:261152047
LOCATION:Mittelschulturnhalle, Roither Weg 15, 93173 Wenzenbach
GEO:49.07612000000000000000;12.18890000000000000000
SUMMARY:KM U13 So w: TSV Neutraubling - FC Miltach
CLASS:PUBLIC
DTSTART:20161009T080000Z
DTSTAMP:20161012T161700Z
END:VEVENT
BEGIN:VEVENT
UID:164711-0b1cb5f82de24c98f11e829bddb1f0f9
X-WR-RELCALID:164711-0b1cb5f82de24c98f11e829bddb1f0f9
ORGANIZER:Volleyball
SEQUENCE:261152047
LOCATION:Mittelschulturnhalle, Roither Weg 15, 93173 Wenzenbach
GEO:49.07612000000000000000;12.18890000000000000000
SUMMARY:KM U13 So w: SV Wenzenbach - TSV Neutraubling
CLASS:PUBLIC
DTSTART:20161009T080000Z
DTSTAMP:20161012T161800Z
END:VEVENT
BEGIN:VEVENT
UID:164721-0b1cb5f82de24c98f11e829bddb1f0f9
X-WR-RELCALID:164721-0b1cb5f82de24c98f11e829bddb1f0f9
ORGANIZER:Volleyball
SEQUENCE:261152047
LOCATION:Dreifachturnhalle Mittelschule, Keplerstraße, 93073 Neutraubl
 ing
GEO:48.98664724907687400000;12.20376010848997300000
SUMMARY:KM U13 So w: TV Furth i. W. II - TSV Neutraubling
CLASS:PUBLIC
DTSTART:20161023T080000Z
DTSTAMP:20161025T153200Z
END:VEVENT
BEGIN:VEVENT
UID:164724-0b1cb5f82de24c98f11e829bddb1f0f9
X-WR-RELCALID:164724-0b1cb5f82de24c98f11e829bddb1f0f9
ORGANIZER:Volleyball
SEQUENCE:261152047
LOCATION:Dreifachturnhalle Mittelschule, Keplerstraße, 93073 Neutraubl
 ing
GEO:48.98664724907687400000;12.20376010848997300000
SUMMARY:KM U13 So w: TSV Neutraubling - TV Riedenburg
CLASS:PUBLIC
DTSTART:20161023T080000Z
DTSTAMP:20161025T153600Z
END:VEVENT
BEGIN:VEVENT
UID:164741-0b1cb5f82de24c98f11e829bddb1f0f9
X-WR-RELCALID:164741-0b1cb5f82de24c98f11e829bddb1f0f9
ORGANIZER:Volleyball
SEQUENCE:261152047
LOCATION:Johann-Michael-Fischer-Gymnasium, Johannes-Kepler-Str. 4, 931
 33 Burglengenfeld
GEO:49.20076773165937600000;12.06425122222901800000
SUMMARY:KM U13 So w: SSV Roßbach/Wald - TSV Neutraubling
CLASS:PUBLIC
DTSTART:20161120T090000Z
DTSTAMP:20161120T134600Z
END:VEVENT
BEGIN:VEVENT
UID:164747-0b1cb5f82de24c98f11e829bddb1f0f9
X-WR-RELCALID:164747-0b1cb5f82de24c98f11e829bddb1f0f9
ORGANIZER:Volleyball
SEQUENCE:261152047
LOCATION:Johann-Michael-Fischer-Gymnasium, Johannes-Kepler-Str. 4, 931
 33 Burglengenfeld
GEO:49.20076773165937600000;12.06425122222901800000
SUMMARY:KM U13 So w: TSV Neutraubling - VC Kallmünz-Burglengenfeld
CLASS:PUBLIC
DTSTART:20161120T090000Z
DTSTAMP:20161120T135300Z
END:VEVENT
BEGIN:VEVENT
UID:164748-0b1cb5f82de24c98f11e829bddb1f0f9
X-WR-RELCALID:164748-0b1cb5f82de24c98f11e829bddb1f0f9
ORGANIZER:Volleyball
SEQUENCE:261152047
LOCATION:Johann-Michael-Fischer-Gymnasium, Johannes-Kepler-Str. 4, 931
 33 Burglengenfeld
GEO:49.20076773165937600000;12.06425122222901800000
SUMMARY:KM U13 So w: SV Weiding - TSV Neutraubling
CLASS:PUBLIC
DTSTART:20161120T090000Z
DTSTAMP:20161120T135400Z
END:VEVENT
BEGIN:VEVENT
UID:164758-0b1cb5f82de24c98f11e829bddb1f0f9
X-WR-RELCALID:164758-0b1cb5f82de24c98f11e829bddb1f0f9
ORGANIZER:Volleyball
SEQUENCE:261152047
LOCATION:Johann-Simon-Mayer-Realschule, Schulstr. 21, 93339 Riedenburg
 
GEO:48.96636902186227000000;11.68395248081208100000
SUMMARY:KM U13 So w: ASV Cham - TSV Neutraubling
CLASS:PUBLIC
DTSTART:20161211T090000Z
DTSTAMP:20161214T183800Z
END:VEVENT
BEGIN:VEVENT
UID:164765-0b1cb5f82de24c98f11e829bddb1f0f9
X-WR-RELCALID:164765-0b1cb5f82de24c98f11e829bddb1f0f9
ORGANIZER:Volleyball
SEQUENCE:261152047
LOCATION:Johann-Simon-Mayer-Realschule, Schulstr. 21, 93339 Riedenburg
 
GEO:48.96636902186227000000;11.68395248081208100000
SUMMARY:KM U13 So w: TB/ASV Regenstauf - TSV Neutraubling
CLASS:PUBLIC
DTSTART:20161211T090000Z
DTSTAMP:20161214T184800Z
END:VEVENT
BEGIN:VEVENT
UID:164767-0b1cb5f82de24c98f11e829bddb1f0f9
X-WR-RELCALID:164767-0b1cb5f82de24c98f11e829bddb1f0f9
ORGANIZER:Volleyball
SEQUENCE:261152047
LOCATION:Johann-Simon-Mayer-Realschule, Schulstr. 21, 93339 Riedenburg
 
GEO:48.96636902186227000000;11.68395248081208100000
SUMMARY:KM U13 So w: TSV Neutraubling - TSV Falkenstein
CLASS:PUBLIC
DTSTART:20161211T090000Z
DTSTAMP:20161214T184900Z
END:VEVENT
BEGIN:VEVENT
UID:164781-0b1cb5f82de24c98f11e829bddb1f0f9
X-WR-RELCALID:164781-0b1cb5f82de24c98f11e829bddb1f0f9
ORGANIZER:Volleyball
SEQUENCE:261152047
LOCATION:Dreifachturnhalle Mittelschule, Keplerstraße, 93073 Neutraubl
 ing
GEO:48.98664724907687400000;12.20376010848997300000
SUMMARY:KM U13 So w: TSG Laaber - TSV Neutraubling
CLASS:PUBLIC
DTSTART:20170122T090000Z
DTSTAMP:20170124T154500Z
END:VEVENT
BEGIN:VEVENT
UID:164782-0b1cb5f82de24c98f11e829bddb1f0f9
X-WR-RELCALID:164782-0b1cb5f82de24c98f11e829bddb1f0f9
ORGANIZER:Volleyball
SEQUENCE:261152047
LOCATION:Dreifachturnhalle Mittelschule, Keplerstraße, 93073 Neutraubl
 ing
GEO:48.98664724907687400000;12.20376010848997300000
SUMMARY:KM U13 So w: TSV Neutraubling - TV Furth i. W.
CLASS:PUBLIC
DTSTART:20170122T090000Z
DTSTAMP:20170124T154600Z
END:VEVENT
END:VCALENDAR