BEGIN:VCALENDAR
VERSION:2.0
PRODID:VSD-Portal-www.volley.de
METHOD:PUBLISH
BEGIN:VEVENT
UID:505418-2da69939ed67427dc6bf3daba21059e9
X-WR-RELCALID:505418-2da69939ed67427dc6bf3daba21059e9
ORGANIZER:Volleyball
SEQUENCE:261141824
LOCATION:Freie Waldorfschule (neue Halle), Rudolf-von-Bennigsen-Ufer 7
 0, 30173 Hannover
GEO:52.35146620000000000000;9.74888090000000000000
SUMMARY:LL 4 Mä.: GfL Hannover IV - MTV Dannenberg
CLASS:PUBLIC
DTSTART:20190915T120000Z
DTSTAMP:20190723T143000Z
END:VEVENT
BEGIN:VEVENT
UID:505419-2da69939ed67427dc6bf3daba21059e9
X-WR-RELCALID:505419-2da69939ed67427dc6bf3daba21059e9
ORGANIZER:Volleyball
SEQUENCE:261141824
LOCATION:Freie Waldorfschule (neue Halle), Rudolf-von-Bennigsen-Ufer 7
 0, 30173 Hannover
GEO:52.35146620000000000000;9.74888090000000000000
SUMMARY:LL 4 Mä.: GfL Hannover IV - TuS Altwarmbüchen
CLASS:PUBLIC
DTSTART:20190915T120000Z
DTSTAMP:20190723T143000Z
END:VEVENT
BEGIN:VEVENT
UID:505436-2da69939ed67427dc6bf3daba21059e9
X-WR-RELCALID:505436-2da69939ed67427dc6bf3daba21059e9
ORGANIZER:Volleyball
SEQUENCE:261141824
LOCATION:Freie Waldorfschule (neue Halle), Rudolf-von-Bennigsen-Ufer 7
 0, 30173 Hannover
GEO:52.35146620000000000000;9.74888090000000000000
SUMMARY:LL 4 Mä.: GfL Hannover IV - SG Bergen-Wietzendorf
CLASS:PUBLIC
DTSTART:20191109T130000Z
DTSTAMP:20190720T100600Z
END:VEVENT
BEGIN:VEVENT
UID:505437-2da69939ed67427dc6bf3daba21059e9
X-WR-RELCALID:505437-2da69939ed67427dc6bf3daba21059e9
ORGANIZER:Volleyball
SEQUENCE:261141824
LOCATION:Freie Waldorfschule (neue Halle), Rudolf-von-Bennigsen-Ufer 7
 0, 30173 Hannover
GEO:52.35146620000000000000;9.74888090000000000000
SUMMARY:LL 4 Mä.: GfL Hannover IV - SV Altencelle
CLASS:PUBLIC
DTSTART:20191109T130000Z
DTSTAMP:20190720T100600Z
END:VEVENT
BEGIN:VEVENT
UID:505456-2da69939ed67427dc6bf3daba21059e9
X-WR-RELCALID:505456-2da69939ed67427dc6bf3daba21059e9
ORGANIZER:Volleyball
SEQUENCE:261141824
LOCATION:Freie Waldorfschule (neue Halle), Rudolf-von-Bennigsen-Ufer 7
 0, 30173 Hannover
GEO:52.35146620000000000000;9.74888090000000000000
SUMMARY:LL 4 Mä.: GfL Hannover IV - TB Stöcken
CLASS:PUBLIC
DTSTART:20191221T130000Z
DTSTAMP:20190720T100600Z
END:VEVENT
BEGIN:VEVENT
UID:505457-2da69939ed67427dc6bf3daba21059e9
X-WR-RELCALID:505457-2da69939ed67427dc6bf3daba21059e9
ORGANIZER:Volleyball
SEQUENCE:261141824
LOCATION:Freie Waldorfschule (neue Halle), Rudolf-von-Bennigsen-Ufer 7
 0, 30173 Hannover
GEO:52.35146620000000000000;9.74888090000000000000
SUMMARY:LL 4 Mä.: GfL Hannover IV - PSV Hannover
CLASS:PUBLIC
DTSTART:20191221T130000Z
DTSTAMP:20190720T100600Z
END:VEVENT
BEGIN:VEVENT
UID:505472-2da69939ed67427dc6bf3daba21059e9
X-WR-RELCALID:505472-2da69939ed67427dc6bf3daba21059e9
ORGANIZER:Volleyball
SEQUENCE:261141824
LOCATION:Freie Waldorfschule (neue Halle), Rudolf-von-Bennigsen-Ufer 7
 0, 30173 Hannover
GEO:52.35146620000000000000;9.74888090000000000000
SUMMARY:LL 4 Mä.: GfL Hannover IV - SF Aligse II
CLASS:PUBLIC
DTSTART:20200208T130000Z
DTSTAMP:20190720T100600Z
END:VEVENT
BEGIN:VEVENT
UID:505473-2da69939ed67427dc6bf3daba21059e9
X-WR-RELCALID:505473-2da69939ed67427dc6bf3daba21059e9
ORGANIZER:Volleyball
SEQUENCE:261141824
LOCATION:Freie Waldorfschule (neue Halle), Rudolf-von-Bennigsen-Ufer 7
 0, 30173 Hannover
GEO:52.35146620000000000000;9.74888090000000000000
SUMMARY:LL 4 Mä.: GfL Hannover IV - SG Lachendorf/Eschede II
CLASS:PUBLIC
DTSTART:20200208T130000Z
DTSTAMP:20190720T100600Z
END:VEVENT
END:VCALENDAR