BEGIN:VCALENDAR
VERSION:2.0
PRODID:VSD-Portal-www.volley.de
METHOD:PUBLISH
BEGIN:VEVENT
UID:507384-2da69939ed67427dc6bf3daba21059e9
X-WR-RELCALID:507384-2da69939ed67427dc6bf3daba21059e9
ORGANIZER:Volleyball
SEQUENCE:261141543
LOCATION:Georg-Schäfer-Sporthalle, Oskar-Serrand-Straße 29, 97483 Eltm
 ann
GEO:49.96827000000000000000;10.66228000000000000000
SUMMARY:1. BL Mä.: HEITEC Volleys Eltmann - SVG Lüneburg
CLASS:PUBLIC
DTSTART:20200314T183000Z
DTSTAMP:20200113T084000Z
END:VEVENT
END:VCALENDAR