BEGIN:VCALENDAR
VERSION:2.0
PRODID:VSD-Portal-www.volley.de
METHOD:PUBLISH
BEGIN:VEVENT
UID:165115-0b1cb5f82de24c98f11e829bddb1f0f9
X-WR-RELCALID:165115-0b1cb5f82de24c98f11e829bddb1f0f9
ORGANIZER:Volleyball
SEQUENCE:261141455
SUMMARY:K: O U12 w: SV Lohhof II - TSV Unterhaching
CLASS:PUBLIC
DTSTART:20160925T080000Z
DTSTAMP:20160926T092600Z
END:VEVENT
BEGIN:VEVENT
UID:165120-0b1cb5f82de24c98f11e829bddb1f0f9
X-WR-RELCALID:165120-0b1cb5f82de24c98f11e829bddb1f0f9
ORGANIZER:Volleyball
SEQUENCE:261141455
SUMMARY:K: O U12 w: SV Lohhof II - SV Lohhof III
CLASS:PUBLIC
DTSTART:20160925T080000Z
DTSTAMP:20160926T092700Z
END:VEVENT
BEGIN:VEVENT
UID:165114-0b1cb5f82de24c98f11e829bddb1f0f9
X-WR-RELCALID:165114-0b1cb5f82de24c98f11e829bddb1f0f9
ORGANIZER:Volleyball
SEQUENCE:261141455
SUMMARY:K: O U12 w: SV Lohhof II - SV Lohhof III
CLASS:PUBLIC
DTSTART:20161126T090000Z
DTSTAMP:20161126T121600Z
END:VEVENT
BEGIN:VEVENT
UID:165118-0b1cb5f82de24c98f11e829bddb1f0f9
X-WR-RELCALID:165118-0b1cb5f82de24c98f11e829bddb1f0f9
ORGANIZER:Volleyball
SEQUENCE:261141455
SUMMARY:K: O U12 w: SV Lohhof II - SV Lohhof IV
CLASS:PUBLIC
DTSTART:20161126T090000Z
DTSTAMP:20161126T121700Z
END:VEVENT
BEGIN:VEVENT
UID:165122-0b1cb5f82de24c98f11e829bddb1f0f9
X-WR-RELCALID:165122-0b1cb5f82de24c98f11e829bddb1f0f9
ORGANIZER:Volleyball
SEQUENCE:261141455
SUMMARY:K: O U12 w: SV Lohhof II - SV Lohhof IV
CLASS:PUBLIC
DTSTART:20161218T090000Z
DTSTAMP:20161218T104200Z
END:VEVENT
BEGIN:VEVENT
UID:165124-0b1cb5f82de24c98f11e829bddb1f0f9
X-WR-RELCALID:165124-0b1cb5f82de24c98f11e829bddb1f0f9
ORGANIZER:Volleyball
SEQUENCE:261141455
SUMMARY:K: O U12 w: TSV Unterhaching - SV Lohhof II
CLASS:PUBLIC
DTSTART:20161218T090000Z
DTSTAMP:20161218T115000Z
END:VEVENT
END:VCALENDAR