BEGIN:VCALENDAR
VERSION:2.0
PRODID:VSD-Portal-www.volley.de
METHOD:PUBLISH
BEGIN:VEVENT
UID:163256-0b1cb5f82de24c98f11e829bddb1f0f9
X-WR-RELCALID:163256-0b1cb5f82de24c98f11e829bddb1f0f9
ORGANIZER:Volleyball
SEQUENCE:261150049
SUMMARY:K: O/KKL2 w: TSV Hohenb.-Riemerling - VC Ottobrunn
CLASS:PUBLIC
DTSTART:20161016T080000Z
DTSTAMP:20161016T151600Z
END:VEVENT
BEGIN:VEVENT
UID:163258-0b1cb5f82de24c98f11e829bddb1f0f9
X-WR-RELCALID:163258-0b1cb5f82de24c98f11e829bddb1f0f9
ORGANIZER:Volleyball
SEQUENCE:261150049
SUMMARY:K: O/KKL2 w: VC Ottobrunn - SpVgg Höhenkirchen II
CLASS:PUBLIC
DTSTART:20161016T100000Z
DTSTAMP:20161016T163500Z
END:VEVENT
BEGIN:VEVENT
UID:163263-0b1cb5f82de24c98f11e829bddb1f0f9
X-WR-RELCALID:163263-0b1cb5f82de24c98f11e829bddb1f0f9
ORGANIZER:Volleyball
SEQUENCE:261150049
SUMMARY:K: O/KKL2 w: VC Ottobrunn - SpVgg Höhenkirchen
CLASS:PUBLIC
DTSTART:20161016T110000Z
DTSTAMP:20161016T172900Z
END:VEVENT
BEGIN:VEVENT
UID:163269-0b1cb5f82de24c98f11e829bddb1f0f9
X-WR-RELCALID:163269-0b1cb5f82de24c98f11e829bddb1f0f9
ORGANIZER:Volleyball
SEQUENCE:261150049
SUMMARY:K: O/KKL2 w: VC Ottobrunn - SpVgg Höhenkirchen II
CLASS:PUBLIC
DTSTART:20161113T090000Z
DTSTAMP:20161113T154400Z
END:VEVENT
BEGIN:VEVENT
UID:163266-0b1cb5f82de24c98f11e829bddb1f0f9
X-WR-RELCALID:163266-0b1cb5f82de24c98f11e829bddb1f0f9
ORGANIZER:Volleyball
SEQUENCE:261150049
SUMMARY:K: O/KKL2 w: SV Helfendorf - VC Ottobrunn
CLASS:PUBLIC
DTSTART:20161113T110000Z
DTSTAMP:20161113T154200Z
END:VEVENT
BEGIN:VEVENT
UID:163274-0b1cb5f82de24c98f11e829bddb1f0f9
X-WR-RELCALID:163274-0b1cb5f82de24c98f11e829bddb1f0f9
ORGANIZER:Volleyball
SEQUENCE:261150049
SUMMARY:K: O/KKL2 w: VC Ottobrunn - ATSV Kirchseeon
CLASS:PUBLIC
DTSTART:20161127T100000Z
DTSTAMP:20161127T144700Z
END:VEVENT
BEGIN:VEVENT
UID:163279-0b1cb5f82de24c98f11e829bddb1f0f9
X-WR-RELCALID:163279-0b1cb5f82de24c98f11e829bddb1f0f9
ORGANIZER:Volleyball
SEQUENCE:261150049
SUMMARY:K: O/KKL2 w: SV Helfendorf - VC Ottobrunn
CLASS:PUBLIC
DTSTART:20161127T110000Z
DTSTAMP:20161127T144500Z
END:VEVENT
BEGIN:VEVENT
UID:163276-0b1cb5f82de24c98f11e829bddb1f0f9
X-WR-RELCALID:163276-0b1cb5f82de24c98f11e829bddb1f0f9
ORGANIZER:Volleyball
SEQUENCE:261150049
SUMMARY:K: O/KKL2 w: VC Ottobrunn - SpVgg Höhenkirchen
CLASS:PUBLIC
DTSTART:20161127T120000Z
DTSTAMP:20161127T144400Z
END:VEVENT
BEGIN:VEVENT
UID:163283-0b1cb5f82de24c98f11e829bddb1f0f9
X-WR-RELCALID:163283-0b1cb5f82de24c98f11e829bddb1f0f9
ORGANIZER:Volleyball
SEQUENCE:261150049
SUMMARY:K: O/KKL2 w: TSV Hohenb.-Riemerling - VC Ottobrunn
CLASS:PUBLIC
DTSTART:20170115T110000Z
DTSTAMP:20170115T154900Z
END:VEVENT
BEGIN:VEVENT
UID:163284-0b1cb5f82de24c98f11e829bddb1f0f9
X-WR-RELCALID:163284-0b1cb5f82de24c98f11e829bddb1f0f9
ORGANIZER:Volleyball
SEQUENCE:261150049
SUMMARY:K: O/KKL2 w: VC Ottobrunn - TSV Vaterstetten
CLASS:PUBLIC
DTSTART:20170115T120000Z
DTSTAMP:20170115T155500Z
END:VEVENT
BEGIN:VEVENT
UID:163294-0b1cb5f82de24c98f11e829bddb1f0f9
X-WR-RELCALID:163294-0b1cb5f82de24c98f11e829bddb1f0f9
ORGANIZER:Volleyball
SEQUENCE:261150049
SUMMARY:K: O/KKL2 w: VC Ottobrunn - TSV Vaterstetten
CLASS:PUBLIC
DTSTART:20170129T090000Z
DTSTAMP:20170129T114500Z
END:VEVENT
BEGIN:VEVENT
UID:163293-0b1cb5f82de24c98f11e829bddb1f0f9
X-WR-RELCALID:163293-0b1cb5f82de24c98f11e829bddb1f0f9
ORGANIZER:Volleyball
SEQUENCE:261150049
SUMMARY:K: O/KKL2 w: VC Ottobrunn - ATSV Kirchseeon
CLASS:PUBLIC
DTSTART:20170129T120000Z
DTSTAMP:20170129T155100Z
END:VEVENT
END:VCALENDAR