BEGIN:VCALENDAR
VERSION:2.0
PRODID:VSD-Portal-www.volley.de
METHOD:PUBLISH
BEGIN:VEVENT
UID:163283-0b1cb5f82de24c98f11e829bddb1f0f9
X-WR-RELCALID:163283-0b1cb5f82de24c98f11e829bddb1f0f9
ORGANIZER:Volleyball
SEQUENCE:261141703
SUMMARY:K: O/KKL2 w: TSV Hohenb.-Riemerling - VC Ottobrunn
CLASS:PUBLIC
DTSTART:20170115T110000Z
DTSTAMP:20170115T154900Z
END:VEVENT
BEGIN:VEVENT
UID:163284-0b1cb5f82de24c98f11e829bddb1f0f9
X-WR-RELCALID:163284-0b1cb5f82de24c98f11e829bddb1f0f9
ORGANIZER:Volleyball
SEQUENCE:261141703
SUMMARY:K: O/KKL2 w: VC Ottobrunn - TSV Vaterstetten
CLASS:PUBLIC
DTSTART:20170115T120000Z
DTSTAMP:20170115T155500Z
END:VEVENT
END:VCALENDAR