BEGIN:VCALENDAR
VERSION:2.0
PRODID:VSD-Portal-www.volley.de
METHOD:PUBLISH
BEGIN:VEVENT
UID:163270-0b1cb5f82de24c98f11e829bddb1f0f9
X-WR-RELCALID:163270-0b1cb5f82de24c98f11e829bddb1f0f9
ORGANIZER:Volleyball
SEQUENCE:261141144
SUMMARY:K: O/KKL2 w: TSV Vaterstetten - SpVgg Höhenkirchen
CLASS:PUBLIC
DTSTART:20161113T100000Z
DTSTAMP:20161113T154300Z
END:VEVENT
BEGIN:VEVENT
UID:163271-0b1cb5f82de24c98f11e829bddb1f0f9
X-WR-RELCALID:163271-0b1cb5f82de24c98f11e829bddb1f0f9
ORGANIZER:Volleyball
SEQUENCE:261141144
SUMMARY:K: O/KKL2 w: SpVgg Höhenkirchen II - TSV Vaterstetten
CLASS:PUBLIC
DTSTART:20161113T110000Z
DTSTAMP:20161113T153600Z
END:VEVENT
END:VCALENDAR