BEGIN:VCALENDAR
VERSION:2.0
PRODID:VSD-Portal-www.volley.de
METHOD:PUBLISH
BEGIN:VEVENT
UID:163277-0b1cb5f82de24c98f11e829bddb1f0f9
X-WR-RELCALID:163277-0b1cb5f82de24c98f11e829bddb1f0f9
ORGANIZER:Volleyball
SEQUENCE:261140234
SUMMARY:K: O/KKL2 w: TSV Hohenb.-Riemerling - SV Helfendorf
CLASS:PUBLIC
DTSTART:20161127T090000Z
DTSTAMP:20161127T144700Z
END:VEVENT
BEGIN:VEVENT
UID:163279-0b1cb5f82de24c98f11e829bddb1f0f9
X-WR-RELCALID:163279-0b1cb5f82de24c98f11e829bddb1f0f9
ORGANIZER:Volleyball
SEQUENCE:261140234
SUMMARY:K: O/KKL2 w: SV Helfendorf - VC Ottobrunn
CLASS:PUBLIC
DTSTART:20161127T110000Z
DTSTAMP:20161127T144500Z
END:VEVENT
END:VCALENDAR