BEGIN:VCALENDAR
VERSION:2.0
PRODID:VSD-Portal-www.volley.de
METHOD:PUBLISH
BEGIN:VEVENT
UID:163257-0b1cb5f82de24c98f11e829bddb1f0f9
X-WR-RELCALID:163257-0b1cb5f82de24c98f11e829bddb1f0f9
ORGANIZER:Volleyball
SEQUENCE:261141333
SUMMARY:K: O/KKL2 w: SpVgg Höhenkirchen - ATSV Kirchseeon
CLASS:PUBLIC
DTSTART:20161016T090000Z
DTSTAMP:20161016T151600Z
END:VEVENT
BEGIN:VEVENT
UID:163263-0b1cb5f82de24c98f11e829bddb1f0f9
X-WR-RELCALID:163263-0b1cb5f82de24c98f11e829bddb1f0f9
ORGANIZER:Volleyball
SEQUENCE:261141333
SUMMARY:K: O/KKL2 w: VC Ottobrunn - SpVgg Höhenkirchen
CLASS:PUBLIC
DTSTART:20161016T110000Z
DTSTAMP:20161016T172900Z
END:VEVENT
BEGIN:VEVENT
UID:163264-0b1cb5f82de24c98f11e829bddb1f0f9
X-WR-RELCALID:163264-0b1cb5f82de24c98f11e829bddb1f0f9
ORGANIZER:Volleyball
SEQUENCE:261141333
SUMMARY:K: O/KKL2 w: SV Helfendorf - SpVgg Höhenkirchen
CLASS:PUBLIC
DTSTART:20161113T090000Z
DTSTAMP:20161113T154200Z
END:VEVENT
BEGIN:VEVENT
UID:163270-0b1cb5f82de24c98f11e829bddb1f0f9
X-WR-RELCALID:163270-0b1cb5f82de24c98f11e829bddb1f0f9
ORGANIZER:Volleyball
SEQUENCE:261141333
SUMMARY:K: O/KKL2 w: TSV Vaterstetten - SpVgg Höhenkirchen
CLASS:PUBLIC
DTSTART:20161113T100000Z
DTSTAMP:20161113T154300Z
END:VEVENT
BEGIN:VEVENT
UID:163267-0b1cb5f82de24c98f11e829bddb1f0f9
X-WR-RELCALID:163267-0b1cb5f82de24c98f11e829bddb1f0f9
ORGANIZER:Volleyball
SEQUENCE:261141333
SUMMARY:K: O/KKL2 w: TSV Hohenb.-Riemerling - SpVgg Höhenkirchen
CLASS:PUBLIC
DTSTART:20161113T120000Z
DTSTAMP:20161113T172800Z
END:VEVENT
BEGIN:VEVENT
UID:163273-0b1cb5f82de24c98f11e829bddb1f0f9
X-WR-RELCALID:163273-0b1cb5f82de24c98f11e829bddb1f0f9
ORGANIZER:Volleyball
SEQUENCE:261141333
SUMMARY:K: O/KKL2 w: TSV Vaterstetten - SpVgg Höhenkirchen
CLASS:PUBLIC
DTSTART:20161127T090000Z
DTSTAMP:20161127T144600Z
END:VEVENT
BEGIN:VEVENT
UID:163278-0b1cb5f82de24c98f11e829bddb1f0f9
X-WR-RELCALID:163278-0b1cb5f82de24c98f11e829bddb1f0f9
ORGANIZER:Volleyball
SEQUENCE:261141333
SUMMARY:K: O/KKL2 w: SpVgg Höhenkirchen II - SpVgg Höhenkirchen
CLASS:PUBLIC
DTSTART:20161127T100000Z
DTSTAMP:20161127T144600Z
END:VEVENT
BEGIN:VEVENT
UID:163276-0b1cb5f82de24c98f11e829bddb1f0f9
X-WR-RELCALID:163276-0b1cb5f82de24c98f11e829bddb1f0f9
ORGANIZER:Volleyball
SEQUENCE:261141333
SUMMARY:K: O/KKL2 w: VC Ottobrunn - SpVgg Höhenkirchen
CLASS:PUBLIC
DTSTART:20161127T120000Z
DTSTAMP:20161127T144400Z
END:VEVENT
BEGIN:VEVENT
UID:163287-0b1cb5f82de24c98f11e829bddb1f0f9
X-WR-RELCALID:163287-0b1cb5f82de24c98f11e829bddb1f0f9
ORGANIZER:Volleyball
SEQUENCE:261141333
SUMMARY:K: O/KKL2 w: SpVgg Höhenkirchen - SpVgg Höhenkirchen II
CLASS:PUBLIC
DTSTART:20170115T100000Z
DTSTAMP:20170115T155100Z
END:VEVENT
BEGIN:VEVENT
UID:163288-0b1cb5f82de24c98f11e829bddb1f0f9
X-WR-RELCALID:163288-0b1cb5f82de24c98f11e829bddb1f0f9
ORGANIZER:Volleyball
SEQUENCE:261141333
SUMMARY:K: O/KKL2 w: SV Helfendorf - SpVgg Höhenkirchen
CLASS:PUBLIC
DTSTART:20170115T110000Z
DTSTAMP:20170115T155000Z
END:VEVENT
BEGIN:VEVENT
UID:163290-0b1cb5f82de24c98f11e829bddb1f0f9
X-WR-RELCALID:163290-0b1cb5f82de24c98f11e829bddb1f0f9
ORGANIZER:Volleyball
SEQUENCE:261141333
SUMMARY:K: O/KKL2 w: ATSV Kirchseeon - SpVgg Höhenkirchen
CLASS:PUBLIC
DTSTART:20170129T090000Z
DTSTAMP:20170129T114400Z
END:VEVENT
BEGIN:VEVENT
UID:163296-0b1cb5f82de24c98f11e829bddb1f0f9
X-WR-RELCALID:163296-0b1cb5f82de24c98f11e829bddb1f0f9
ORGANIZER:Volleyball
SEQUENCE:261141333
SUMMARY:K: O/KKL2 w: TSV Hohenb.-Riemerling - SpVgg Höhenkirchen
CLASS:PUBLIC
DTSTART:20170129T110000Z
DTSTAMP:20170129T130600Z
END:VEVENT
END:VCALENDAR