BEGIN:VCALENDAR
VERSION:2.0
PRODID:VSD-Portal-www.volley.de
METHOD:PUBLISH
BEGIN:VEVENT
UID:171494-0b1cb5f82de24c98f11e829bddb1f0f9
X-WR-RELCALID:171494-0b1cb5f82de24c98f11e829bddb1f0f9
ORGANIZER:Volleyball
SEQUENCE:261141658
SUMMARY:KMS U14 w: SV Lohhof II - TSV Grafing
CLASS:PUBLIC
DTSTART:20170129T090000Z
DTSTAMP:20170129T094500Z
END:VEVENT
BEGIN:VEVENT
UID:171498-0b1cb5f82de24c98f11e829bddb1f0f9
X-WR-RELCALID:171498-0b1cb5f82de24c98f11e829bddb1f0f9
ORGANIZER:Volleyball
SEQUENCE:261141658
SUMMARY:KMS U14 w: SV Lohhof II - SV Lohhof III
CLASS:PUBLIC
DTSTART:20170129T110000Z
DTSTAMP:20170129T125600Z
END:VEVENT
END:VCALENDAR