BEGIN:VCALENDAR
VERSION:2.0
PRODID:VSD-Portal-www.volley.de
METHOD:PUBLISH
BEGIN:VEVENT
UID:170864-0b1cb5f82de24c98f11e829bddb1f0f9
X-WR-RELCALID:170864-0b1cb5f82de24c98f11e829bddb1f0f9
ORGANIZER:Volleyball
SEQUENCE:261141844
SUMMARY:KMS U16 w: SV Lohhof III - TSV Isen 1909 e.V.
CLASS:PUBLIC
DTSTART:20161211T090000Z
DTSTAMP:20161211T193000Z
END:VEVENT
BEGIN:VEVENT
UID:170868-0b1cb5f82de24c98f11e829bddb1f0f9
X-WR-RELCALID:170868-0b1cb5f82de24c98f11e829bddb1f0f9
ORGANIZER:Volleyball
SEQUENCE:261141844
SUMMARY:KMS U16 w: TSV Unterhaching - SV Lohhof III
CLASS:PUBLIC
DTSTART:20161211T090000Z
DTSTAMP:20161211T193100Z
END:VEVENT
BEGIN:VEVENT
UID:170871-0b1cb5f82de24c98f11e829bddb1f0f9
X-WR-RELCALID:170871-0b1cb5f82de24c98f11e829bddb1f0f9
ORGANIZER:Volleyball
SEQUENCE:261141844
SUMMARY:KMS U16 w: SV Lohhof II - SV Lohhof III
CLASS:PUBLIC
DTSTART:20161211T090000Z
DTSTAMP:20161211T193300Z
END:VEVENT
BEGIN:VEVENT
UID:170873-0b1cb5f82de24c98f11e829bddb1f0f9
X-WR-RELCALID:170873-0b1cb5f82de24c98f11e829bddb1f0f9
ORGANIZER:Volleyball
SEQUENCE:261141844
SUMMARY:KMS U16 w: TSV Vaterstetten - SV Lohhof III
CLASS:PUBLIC
DTSTART:20161211T090000Z
DTSTAMP:20161211T193500Z
END:VEVENT
END:VCALENDAR