BEGIN:VCALENDAR
VERSION:2.0
PRODID:VSD-Portal-www.volley.de
METHOD:PUBLISH
BEGIN:VEVENT
UID:510539-2da69939ed67427dc6bf3daba21059e9
X-WR-RELCALID:510539-2da69939ed67427dc6bf3daba21059e9
ORGANIZER:Volleyball
SEQUENCE:261110112
LOCATION:Steinbühlhalle, Mainhardt, Steinbühlhalle, 0  Mainhardt
GEO:49.07960891723633000000;9.55412006378173800000
SUMMARY:LL N Mä.: SSV Geißelhardt - TSV Schmiden
CLASS:PUBLIC
DTSTART:20200315T130000Z
DTSTAMP:20190912T123000Z
END:VEVENT
END:VCALENDAR