BEGIN:VCALENDAR
VERSION:2.0
PRODID:VSD-Portal-www.volley.de
METHOD:PUBLISH
BEGIN:VEVENT
UID:157329-0b1cb5f82de24c98f11e829bddb1f0f9
X-WR-RELCALID:157329-0b1cb5f82de24c98f11e829bddb1f0f9
ORGANIZER:Volleyball
SEQUENCE:261110502
LOCATION:Josef-Schlicht-Grundschule, August-Schmieder-Straße 54, 94377
  Steinach
GEO:48.95359800000000000000;12.61405900000000000000
SUMMARY:SBM U13 w: SV Mauerstetten - TSV Nördlingen
CLASS:PUBLIC
DTSTART;VALUE=DATE:20170402
DTSTAMP:20170402T143200Z
DTEND;VALUE=DATE:20170403
END:VEVENT
END:VCALENDAR