BEGIN:VCALENDAR
VERSION:2.0
PRODID:VSD-Portal-www.volley.de
METHOD:PUBLISH
BEGIN:VEVENT
UID:523558-2da69939ed67427dc6bf3daba21059e9
X-WR-RELCALID:523558-2da69939ed67427dc6bf3daba21059e9
ORGANIZER:Volleyball
SEQUENCE:261111008
LOCATION:KIT: Campus Süd, Engler-Bunte-Ring 15, 76131 Karlsruhe
GEO:49.01682320000000000000;8.41457790000000000000
SUMMARY:LL 2 Fr.: KIT Sport-Club 2010 - TG Ötigheim
CLASS:PUBLIC
DTSTART:20200314T140000Z
DTSTAMP:20190802T150700Z
END:VEVENT
END:VCALENDAR