BEGIN:VCALENDAR
VERSION:2.0
PRODID:VSD-Portal-www.volley.de
METHOD:PUBLISH
BEGIN:VEVENT
UID:527634-2da69939ed67427dc6bf3daba21059e9
X-WR-RELCALID:527634-2da69939ed67427dc6bf3daba21059e9
ORGANIZER:Volleyball
SEQUENCE:261151622
LOCATION:Realschule Herzberg, Heidestr. 10, 37412 Herzberg
GEO:51.65192000000000000000;10.33872000000000000000
SUMMARY:BKl Süd-Nied. Mi.: VT Südharz IV - VT Südharz V
CLASS:PUBLIC
DTSTART:20190919T160000Z
DTSTAMP:20190913T103000Z
END:VEVENT
BEGIN:VEVENT
UID:527637-2da69939ed67427dc6bf3daba21059e9
X-WR-RELCALID:527637-2da69939ed67427dc6bf3daba21059e9
ORGANIZER:Volleyball
SEQUENCE:261151622
LOCATION:Sporthalle Corvinianum I, Wieterstraße, 37154 Northeim
GEO:51.70345080000000000000;10.00151200000000000000
SUMMARY:BKl Süd-Nied. Mi.: DJK Kolping Northeim II - VT Südharz V
CLASS:PUBLIC
DTSTART:20190921T130000Z
DTSTAMP:20190803T113900Z
END:VEVENT
BEGIN:VEVENT
UID:527642-2da69939ed67427dc6bf3daba21059e9
X-WR-RELCALID:527642-2da69939ed67427dc6bf3daba21059e9
ORGANIZER:Volleyball
SEQUENCE:261151622
LOCATION:BBS Northeim, Sudheimerstraße, 37154 Northeim
GEO:51.69105870000000000000;9.99626580000000000000
SUMMARY:BKl Süd-Nied. Mi.: DJK Kolping Northeim (U16m) a.K. - VT Südha
 rz V
CLASS:PUBLIC
DTSTART:20190928T130000Z
DTSTAMP:20190803T113900Z
END:VEVENT
BEGIN:VEVENT
UID:527644-2da69939ed67427dc6bf3daba21059e9
X-WR-RELCALID:527644-2da69939ed67427dc6bf3daba21059e9
ORGANIZER:Volleyball
SEQUENCE:261151622
LOCATION:Max-Planck-Gymnasium, Bühlstraße, 37073 Göttingen
GEO:51.53721800000000000000;9.94201180000000000000
SUMMARY:BKl Süd-Nied. Mi.: MTV Geismar - VT Südharz V
CLASS:PUBLIC
DTSTART:20191026T130000Z
DTSTAMP:20190803T113900Z
END:VEVENT
BEGIN:VEVENT
UID:527649-2da69939ed67427dc6bf3daba21059e9
X-WR-RELCALID:527649-2da69939ed67427dc6bf3daba21059e9
ORGANIZER:Volleyball
SEQUENCE:261151622
LOCATION:Sporthalle Lange Trift, Lange Trift, 37127 Dransfeld
GEO:51.49672170000000000000;9.75755140000000000000
SUMMARY:BKl Süd-Nied. Mi.: DSC Dransfeld - VT Südharz V
CLASS:PUBLIC
DTSTART:20191109T140000Z
DTSTAMP:20190803T113900Z
END:VEVENT
BEGIN:VEVENT
UID:527653-2da69939ed67427dc6bf3daba21059e9
X-WR-RELCALID:527653-2da69939ed67427dc6bf3daba21059e9
ORGANIZER:Volleyball
SEQUENCE:261151622
LOCATION:Turnhalle Pöhlde, Potsdamer Str. 32, 37412 Pöhlde
GEO:51.61319000000000000000;10.31733000000000000000
SUMMARY:BKl Süd-Nied. Mi.: 1. VC Pöhlde (U16m) a.K. - VT Südharz V
CLASS:PUBLIC
DTSTART:20191116T140000Z
DTSTAMP:20190803T113900Z
END:VEVENT
BEGIN:VEVENT
UID:527655-2da69939ed67427dc6bf3daba21059e9
X-WR-RELCALID:527655-2da69939ed67427dc6bf3daba21059e9
ORGANIZER:Volleyball
SEQUENCE:261151622
LOCATION:Realschule Herzberg, Heidestr. 10, 37412 Herzberg
GEO:51.65192000000000000000;10.33872000000000000000
SUMMARY:BKl Süd-Nied. Mi.: VT Südharz V - DJK Kolping Northeim
CLASS:PUBLIC
DTSTART:20191123T140000Z
DTSTAMP:20190803T113900Z
END:VEVENT
BEGIN:VEVENT
UID:527656-2da69939ed67427dc6bf3daba21059e9
X-WR-RELCALID:527656-2da69939ed67427dc6bf3daba21059e9
ORGANIZER:Volleyball
SEQUENCE:261151622
LOCATION:Realschule Herzberg, Heidestr. 10, 37412 Herzberg
GEO:51.65192000000000000000;10.33872000000000000000
SUMMARY:BKl Süd-Nied. Mi.: VT Südharz V - Tuspo Weende VI
CLASS:PUBLIC
DTSTART:20191123T140000Z
DTSTAMP:20190803T113900Z
END:VEVENT
BEGIN:VEVENT
UID:527672-2da69939ed67427dc6bf3daba21059e9
X-WR-RELCALID:527672-2da69939ed67427dc6bf3daba21059e9
ORGANIZER:Volleyball
SEQUENCE:261151622
LOCATION:BBS Northeim, Sudheimerstraße, 37154 Northeim
GEO:51.69105870000000000000;9.99626580000000000000
SUMMARY:BKl Süd-Nied. Mi.: DJK Kolping Northeim - VT Südharz V
CLASS:PUBLIC
DTSTART:20200125T140000Z
DTSTAMP:20200117T134500Z
END:VEVENT
BEGIN:VEVENT
UID:527683-2da69939ed67427dc6bf3daba21059e9
X-WR-RELCALID:527683-2da69939ed67427dc6bf3daba21059e9
ORGANIZER:Volleyball
SEQUENCE:261151622
LOCATION:Realschule Herzberg, Heidestr. 10, 37412 Herzberg
GEO:51.65192000000000000000;10.33872000000000000000
SUMMARY:BKl Süd-Nied. Mi.: VT Südharz V - VT Südharz IV
CLASS:PUBLIC
DTSTART:20200229T140000Z
DTSTAMP:20190803T113900Z
END:VEVENT
BEGIN:VEVENT
UID:527684-2da69939ed67427dc6bf3daba21059e9
X-WR-RELCALID:527684-2da69939ed67427dc6bf3daba21059e9
ORGANIZER:Volleyball
SEQUENCE:261151622
LOCATION:Realschule Herzberg, Heidestr. 10, 37412 Herzberg
GEO:51.65192000000000000000;10.33872000000000000000
SUMMARY:BKl Süd-Nied. Mi.: VT Südharz V - MTV Geismar
CLASS:PUBLIC
DTSTART:20200229T140000Z
DTSTAMP:20190803T113900Z
END:VEVENT
BEGIN:VEVENT
UID:527675-2da69939ed67427dc6bf3daba21059e9
X-WR-RELCALID:527675-2da69939ed67427dc6bf3daba21059e9
ORGANIZER:Volleyball
SEQUENCE:261151622
LOCATION:Realschule Herzberg, Heidestr. 10, 37412 Herzberg
GEO:51.65192000000000000000;10.33872000000000000000
SUMMARY:BKl Süd-Nied. Mi.: VT Südharz V - DJK Kolping Northeim II
CLASS:PUBLIC
DTSTART:20200308T093000Z
DTSTAMP:20200219T092000Z
END:VEVENT
BEGIN:VEVENT
UID:527676-2da69939ed67427dc6bf3daba21059e9
X-WR-RELCALID:527676-2da69939ed67427dc6bf3daba21059e9
ORGANIZER:Volleyball
SEQUENCE:261151622
LOCATION:Realschule Herzberg, Heidestr. 10, 37412 Herzberg
GEO:51.65192000000000000000;10.33872000000000000000
SUMMARY:BKl Süd-Nied. Mi.: VT Südharz V - DSC Dransfeld
CLASS:PUBLIC
DTSTART:20200308T093000Z
DTSTAMP:20200219T092000Z
END:VEVENT
BEGIN:VEVENT
UID:527689-2da69939ed67427dc6bf3daba21059e9
X-WR-RELCALID:527689-2da69939ed67427dc6bf3daba21059e9
ORGANIZER:Volleyball
SEQUENCE:261151622
LOCATION:Hainbundschule Weende, Ernst-Fahlbusch-Straße, 37077 Göttinge
 n
GEO:51.56664640000000000000;9.93409310000000000000
SUMMARY:BKl Süd-Nied. Mi.: Tuspo Weende VI - VT Südharz V
CLASS:PUBLIC
DTSTART:20200314T140000Z
DTSTAMP:20200225T121500Z
END:VEVENT
END:VCALENDAR