BEGIN:VCALENDAR
VERSION:2.0
PRODID:VSD-Portal-www.volley.de
METHOD:PUBLISH
BEGIN:VEVENT
UID:527865-2da69939ed67427dc6bf3daba21059e9
X-WR-RELCALID:527865-2da69939ed67427dc6bf3daba21059e9
ORGANIZER:Volleyball
SEQUENCE:261151314
LOCATION:Sporthalle Weende, James-Franck-Ring, 37077 Göttingen
GEO:51.57180250000000000000;9.93104630000000000000
SUMMARY:BL Süd-Nied. Fr.: Tuspo Weende IV - VT Südharz III
CLASS:PUBLIC
DTSTART:20190928T120000Z
DTSTAMP:20190803T114000Z
END:VEVENT
BEGIN:VEVENT
UID:527866-2da69939ed67427dc6bf3daba21059e9
X-WR-RELCALID:527866-2da69939ed67427dc6bf3daba21059e9
ORGANIZER:Volleyball
SEQUENCE:261151314
LOCATION:Sporthalle Weende, James-Franck-Ring, 37077 Göttingen
GEO:51.57180250000000000000;9.93104630000000000000
SUMMARY:BL Süd-Nied. Fr.: Tuspo Weende IV - SG Lenglern
CLASS:PUBLIC
DTSTART:20190928T120000Z
DTSTAMP:20190803T114000Z
END:VEVENT
BEGIN:VEVENT
UID:527872-2da69939ed67427dc6bf3daba21059e9
X-WR-RELCALID:527872-2da69939ed67427dc6bf3daba21059e9
ORGANIZER:Volleyball
SEQUENCE:261151314
LOCATION:Turnhalle Neue IGS 1 (alt:Voigt-Schule), Theodor-Heuss-Str. 2
 7, 37075 Göttingen
GEO:51.55290900000000000000;9.93761900000000000000
SUMMARY:BL Süd-Nied. Fr.: Tuspo Weende V - Tuspo Weende IV
CLASS:PUBLIC
DTSTART:20191019T120000Z
DTSTAMP:20190803T114000Z
END:VEVENT
BEGIN:VEVENT
UID:527879-2da69939ed67427dc6bf3daba21059e9
X-WR-RELCALID:527879-2da69939ed67427dc6bf3daba21059e9
ORGANIZER:Volleyball
SEQUENCE:261151314
LOCATION:Schulturnhalle Nesselröden, Schulstraße, 37115 Nesselröden
GEO:51.49614120000000000000;10.19054060000000000000
SUMMARY:BL Süd-Nied. Fr.: SG Bodensee/Nesselröden - Tuspo Weende IV
CLASS:PUBLIC
DTSTART:20191027T100000Z
DTSTAMP:20190803T114000Z
END:VEVENT
BEGIN:VEVENT
UID:527883-2da69939ed67427dc6bf3daba21059e9
X-WR-RELCALID:527883-2da69939ed67427dc6bf3daba21059e9
ORGANIZER:Volleyball
SEQUENCE:261151314
LOCATION:Sporthalle Weende, James-Franck-Ring, 37077 Göttingen
GEO:51.57180250000000000000;9.93104630000000000000
SUMMARY:BL Süd-Nied. Fr.: Tuspo Weende IV - TVG Gieboldehausen
CLASS:PUBLIC
DTSTART:20191102T130000Z
DTSTAMP:20190803T114000Z
END:VEVENT
BEGIN:VEVENT
UID:527884-2da69939ed67427dc6bf3daba21059e9
X-WR-RELCALID:527884-2da69939ed67427dc6bf3daba21059e9
ORGANIZER:Volleyball
SEQUENCE:261151314
LOCATION:Sporthalle Weende, James-Franck-Ring, 37077 Göttingen
GEO:51.57180250000000000000;9.93104630000000000000
SUMMARY:BL Süd-Nied. Fr.: Tuspo Weende IV - MTV Grone II
CLASS:PUBLIC
DTSTART:20191102T130000Z
DTSTAMP:20190803T114000Z
END:VEVENT
BEGIN:VEVENT
UID:527887-2da69939ed67427dc6bf3daba21059e9
X-WR-RELCALID:527887-2da69939ed67427dc6bf3daba21059e9
ORGANIZER:Volleyball
SEQUENCE:261151314
LOCATION:Turnhalle Neue IGS 1 (alt:Voigt-Schule), Theodor-Heuss-Str. 2
 7, 37075 Göttingen
GEO:51.55290900000000000000;9.93761900000000000000
SUMMARY:BL Süd-Nied. Fr.: Tuspo Weende III - Tuspo Weende IV
CLASS:PUBLIC
DTSTART:20191110T100000Z
DTSTAMP:20191012T000000Z
END:VEVENT
BEGIN:VEVENT
UID:527901-2da69939ed67427dc6bf3daba21059e9
X-WR-RELCALID:527901-2da69939ed67427dc6bf3daba21059e9
ORGANIZER:Volleyball
SEQUENCE:261151314
LOCATION:Max-Planck-Gymnasium, Bühlstraße, 37073 Göttingen
GEO:51.53721800000000000000;9.94201180000000000000
SUMMARY:BL Süd-Nied. Fr.: ASC 46 Göttingen II - Tuspo Weende IV
CLASS:PUBLIC
DTSTART:20191130T140000Z
DTSTAMP:20190803T114000Z
END:VEVENT
BEGIN:VEVENT
UID:527910-2da69939ed67427dc6bf3daba21059e9
X-WR-RELCALID:527910-2da69939ed67427dc6bf3daba21059e9
ORGANIZER:Volleyball
SEQUENCE:261151314
LOCATION:KGS Gieboldehausen, St.-Laurentius-Str. 5, 37434 Gieboldehaus
 en
GEO:51.60801000000000000000;10.21919000000000000000
SUMMARY:BL Süd-Nied. Fr.: TVG Gieboldehausen - Tuspo Weende IV
CLASS:PUBLIC
DTSTART:20191214T140000Z
DTSTAMP:20190803T114000Z
END:VEVENT
BEGIN:VEVENT
UID:527913-2da69939ed67427dc6bf3daba21059e9
X-WR-RELCALID:527913-2da69939ed67427dc6bf3daba21059e9
ORGANIZER:Volleyball
SEQUENCE:261151314
LOCATION:OS Hann. Münden I, Werraweg, 34346 Hann. Münden
GEO:51.41723760000000000000;9.66014130000000000000
SUMMARY:BL Süd-Nied. Fr.: TG 1860 Münden II - Tuspo Weende IV
CLASS:PUBLIC
DTSTART:20191221T140000Z
DTSTAMP:20190803T114000Z
END:VEVENT
BEGIN:VEVENT
UID:527917-2da69939ed67427dc6bf3daba21059e9
X-WR-RELCALID:527917-2da69939ed67427dc6bf3daba21059e9
ORGANIZER:Volleyball
SEQUENCE:261151314
LOCATION:Sporthalle Lenglern, Brandenburger Str. 13, 37120 Bovenden-Le
 nglern
GEO:51.58697000000000000000;9.87543000000000000000
SUMMARY:BL Süd-Nied. Fr.: SG Lenglern - Tuspo Weende IV
CLASS:PUBLIC
DTSTART:20200111T140000Z
DTSTAMP:20190803T114000Z
END:VEVENT
BEGIN:VEVENT
UID:527923-2da69939ed67427dc6bf3daba21059e9
X-WR-RELCALID:527923-2da69939ed67427dc6bf3daba21059e9
ORGANIZER:Volleyball
SEQUENCE:261151314
LOCATION:Sporthalle Weende, James-Franck-Ring, 37077 Göttingen
GEO:51.57180250000000000000;9.93104630000000000000
SUMMARY:BL Süd-Nied. Fr.: Tuspo Weende IV - VT Südharz III
CLASS:PUBLIC
DTSTART:20200118T130000Z
DTSTAMP:20190803T114000Z
END:VEVENT
BEGIN:VEVENT
UID:527924-2da69939ed67427dc6bf3daba21059e9
X-WR-RELCALID:527924-2da69939ed67427dc6bf3daba21059e9
ORGANIZER:Volleyball
SEQUENCE:261151314
LOCATION:Sporthalle Weende, James-Franck-Ring, 37077 Göttingen
GEO:51.57180250000000000000;9.93104630000000000000
SUMMARY:BL Süd-Nied. Fr.: Tuspo Weende IV - TG 1860 Münden II
CLASS:PUBLIC
DTSTART:20200118T130000Z
DTSTAMP:20190803T114000Z
END:VEVENT
BEGIN:VEVENT
UID:527930-2da69939ed67427dc6bf3daba21059e9
X-WR-RELCALID:527930-2da69939ed67427dc6bf3daba21059e9
ORGANIZER:Volleyball
SEQUENCE:261151314
LOCATION:Max-Planck-Gymnasium, Bühlstraße, 37073 Göttingen
GEO:51.53721800000000000000;9.94201180000000000000
SUMMARY:BL Süd-Nied. Fr.: ASC 46 Göttingen II - Tuspo Weende IV
CLASS:PUBLIC
DTSTART:20200208T140000Z
DTSTAMP:20190803T114000Z
END:VEVENT
BEGIN:VEVENT
UID:527933-2da69939ed67427dc6bf3daba21059e9
X-WR-RELCALID:527933-2da69939ed67427dc6bf3daba21059e9
ORGANIZER:Volleyball
SEQUENCE:261151314
LOCATION:Hainbundschule Weende, Ernst-Fahlbusch-Straße, 37077 Göttinge
 n
GEO:51.56664640000000000000;9.93409310000000000000
SUMMARY:BL Süd-Nied. Fr.: Tuspo Weende IV - SG Bodensee/Nesselröden
CLASS:PUBLIC
DTSTART:20200222T130000Z
DTSTAMP:20190803T114000Z
END:VEVENT
BEGIN:VEVENT
UID:527934-2da69939ed67427dc6bf3daba21059e9
X-WR-RELCALID:527934-2da69939ed67427dc6bf3daba21059e9
ORGANIZER:Volleyball
SEQUENCE:261151314
LOCATION:Hainbundschule Weende, Ernst-Fahlbusch-Straße, 37077 Göttinge
 n
GEO:51.56664640000000000000;9.93409310000000000000
SUMMARY:BL Süd-Nied. Fr.: Tuspo Weende IV - Tuspo Weende V
CLASS:PUBLIC
DTSTART:20200222T130000Z
DTSTAMP:20190803T114000Z
END:VEVENT
BEGIN:VEVENT
UID:527940-2da69939ed67427dc6bf3daba21059e9
X-WR-RELCALID:527940-2da69939ed67427dc6bf3daba21059e9
ORGANIZER:Volleyball
SEQUENCE:261151314
LOCATION:Sporthalle Weende, James-Franck-Ring, 37077 Göttingen
GEO:51.57180250000000000000;9.93104630000000000000
SUMMARY:BL Süd-Nied. Fr.: Tuspo Weende III - Tuspo Weende IV
CLASS:PUBLIC
DTSTART:20200229T130000Z
DTSTAMP:20190803T114000Z
END:VEVENT
BEGIN:VEVENT
UID:527948-2da69939ed67427dc6bf3daba21059e9
X-WR-RELCALID:527948-2da69939ed67427dc6bf3daba21059e9
ORGANIZER:Volleyball
SEQUENCE:261151314
LOCATION:Heinrich-Heine-Schule (Halle 2), Backhausstr. 14, 37081 Götti
 ngen
GEO:51.53195000000000000000;9.89517000000000000000
SUMMARY:BL Süd-Nied. Fr.: MTV Grone II - Tuspo Weende IV
CLASS:PUBLIC
DTSTART:20200314T140000Z
DTSTAMP:20190803T114000Z
END:VEVENT
END:VCALENDAR