BEGIN:VCALENDAR
VERSION:2.0
PRODID:VSD-Portal-www.volley.de
METHOD:PUBLISH
BEGIN:VEVENT
UID:531563-2da69939ed67427dc6bf3daba21059e9
X-WR-RELCALID:531563-2da69939ed67427dc6bf3daba21059e9
ORGANIZER:Volleyball
SEQUENCE:261141542
LOCATION:173, Altglienicke, 173, 0  Altglienicke
GEO:52.41266250610351600000;13.54651451110839800000
SUMMARY:BLL Mä.: VSG Altglienicke - SC Eintracht Berlin
CLASS:PUBLIC
DTSTART:20200328T130000Z
DTSTAMP:20190831T063400Z
END:VEVENT
END:VCALENDAR