BEGIN:VCALENDAR
VERSION:2.0
PRODID:VSD-Portal-www.volley.de
METHOD:PUBLISH
BEGIN:VEVENT
UID:531564-2da69939ed67427dc6bf3daba21059e9
X-WR-RELCALID:531564-2da69939ed67427dc6bf3daba21059e9
ORGANIZER:Volleyball
SEQUENCE:261141354
LOCATION:94, Prenzlauer Berg, 94, 0  Prenzlauer Berg
GEO:52.53917694091797000000;13.42420768737793000000
SUMMARY:BLL Mä.: TSV Wedding I - VC Rotation Mitte II
CLASS:PUBLIC
DTSTART:20200328T130000Z
DTSTAMP:20190831T063400Z
END:VEVENT
END:VCALENDAR