BEGIN:VCALENDAR
VERSION:2.0
PRODID:VSD-Portal-www.volley.de
METHOD:PUBLISH
BEGIN:VEVENT
UID:570402-2da69939ed67427dc6bf3daba21059e9
X-WR-RELCALID:570402-2da69939ed67427dc6bf3daba21059e9
ORGANIZER:Volleyball
SEQUENCE:261130948
SUMMARY:1. BL Mä.: VfB Friedrichshafen - Volleyball Bisons Bühl
CLASS:PUBLIC
DTSTART:20210313T170000Z
DTSTAMP:20210313T183000Z
END:VEVENT
BEGIN:VEVENT
UID:570404-2da69939ed67427dc6bf3daba21059e9
X-WR-RELCALID:570404-2da69939ed67427dc6bf3daba21059e9
ORGANIZER:Volleyball
SEQUENCE:261130948
SUMMARY:1. BL Mä.: VfB Friedrichshafen - Volleyball Bisons Bühl
CLASS:PUBLIC
DTSTART:20210314T183000Z
DTSTAMP:20210314T203500Z
END:VEVENT
END:VCALENDAR