BEGIN:VCALENDAR
VERSION:2.0
PRODID:VSD-Portal-www.volley.de
METHOD:PUBLISH
BEGIN:VEVENT
UID:570414-2da69939ed67427dc6bf3daba21059e9
X-WR-RELCALID:570414-2da69939ed67427dc6bf3daba21059e9
ORGANIZER:Volleyball
SEQUENCE:261131501
SUMMARY:1. BL Mä.: VfB Friedrichshafen - SVG Lüneburg
CLASS:PUBLIC
DTSTART:20210321T170000Z
DTSTAMP:20210321T191500Z
END:VEVENT
BEGIN:VEVENT
UID:570415-2da69939ed67427dc6bf3daba21059e9
X-WR-RELCALID:570415-2da69939ed67427dc6bf3daba21059e9
ORGANIZER:Volleyball
SEQUENCE:261131501
SUMMARY:1. BL Mä.: SVG Lüneburg - VfB Friedrichshafen
CLASS:PUBLIC
DTSTART:20210325T180000Z
DTSTAMP:20210325T203000Z
END:VEVENT
END:VCALENDAR