BEGIN:VCALENDAR
VERSION:2.0
PRODID:VSD-Portal-www.volley.de
METHOD:PUBLISH
BEGIN:VEVENT
UID:570420-2da69939ed67427dc6bf3daba21059e9
X-WR-RELCALID:570420-2da69939ed67427dc6bf3daba21059e9
ORGANIZER:Volleyball
SEQUENCE:261130214
SUMMARY:1. BL Mä.: VfB Friedrichshafen - BERLIN RECYCLING Volleys
CLASS:PUBLIC
DTSTART:20210408T160000Z
DTSTAMP:20210408T184500Z
END:VEVENT
BEGIN:VEVENT
UID:570421-2da69939ed67427dc6bf3daba21059e9
X-WR-RELCALID:570421-2da69939ed67427dc6bf3daba21059e9
ORGANIZER:Volleyball
SEQUENCE:261130214
SUMMARY:1. BL Mä.: BERLIN RECYCLING Volleys - VfB Friedrichshafen
CLASS:PUBLIC
DTSTART:20210411T150000Z
DTSTAMP:20210411T163500Z
END:VEVENT
BEGIN:VEVENT
UID:570422-2da69939ed67427dc6bf3daba21059e9
X-WR-RELCALID:570422-2da69939ed67427dc6bf3daba21059e9
ORGANIZER:Volleyball
SEQUENCE:261130214
SUMMARY:1. BL Mä.: VfB Friedrichshafen - BERLIN RECYCLING Volleys
CLASS:PUBLIC
DTSTART:20210415T160000Z
DTSTAMP:20210415T173000Z
END:VEVENT
END:VCALENDAR