BEGIN:VCALENDAR
VERSION:2.0
PRODID:VSD-Portal-www.volley.de
METHOD:PUBLISH
BEGIN:VEVENT
UID:540580-2da69939ed67427dc6bf3daba21059e9
X-WR-RELCALID:540580-2da69939ed67427dc6bf3daba21059e9
ORGANIZER:Volleyball
SEQUENCE:261141353
LOCATION:SH Rhein-Wied-Gymn., Neuwied, Im Weidchen 2, 56564 Neuwied
GEO:50.43262000000000000000;7.46035000000000000000
SUMMARY:3. L S Mä.: TV Feldkirchen - SV Fellbach
CLASS:PUBLIC
DTSTART:20210110T140000Z
DTSTAMP:20210201T161500Z
END:VEVENT
END:VCALENDAR