BEGIN:VCALENDAR
VERSION:2.0
PRODID:VSD-Portal-www.volley.de
METHOD:PUBLISH
BEGIN:VEVENT
UID:540629-2da69939ed67427dc6bf3daba21059e9
X-WR-RELCALID:540629-2da69939ed67427dc6bf3daba21059e9
ORGANIZER:Volleyball
SEQUENCE:261141351
LOCATION:Innenstadtsporthalle, Karlstr. 29, 71638 Ludwigsburg
GEO:48.89223660000000000000;9.19156690000000000000
SUMMARY:3. L S Mä.: MTV Ludwigsburg - TV Waldgirmes
CLASS:PUBLIC
DTSTART;VALUE=DATE:20201212
DTSTAMP:20201130T210000Z
DTEND;VALUE=DATE:20201213
END:VEVENT
END:VCALENDAR