BEGIN:VCALENDAR
VERSION:2.0
PRODID:VSD-Portal-www.volley.de
METHOD:PUBLISH
BEGIN:VEVENT
UID:540638-2da69939ed67427dc6bf3daba21059e9
X-WR-RELCALID:540638-2da69939ed67427dc6bf3daba21059e9
ORGANIZER:Volleyball
SEQUENCE:261141900
LOCATION:SZ Kolb Osthalle Speyer, Fritz-Ober-Str. 3, 67346 Speyer
GEO:49.32424060000000000000;8.44018570000000000000
SUMMARY:3. L S Mä.: TSV Speyer - TV Feldkirchen
CLASS:PUBLIC
DTSTART;VALUE=DATE:20210109
DTSTAMP:20201130T210000Z
DTEND;VALUE=DATE:20210110
END:VEVENT
END:VCALENDAR