BEGIN:VCALENDAR
VERSION:2.0
PRODID:VSD-Portal-www.volley.de
METHOD:PUBLISH
BEGIN:VEVENT
UID:541930-2da69939ed67427dc6bf3daba21059e9
X-WR-RELCALID:541930-2da69939ed67427dc6bf3daba21059e9
ORGANIZER:Volleyball
SEQUENCE:261140720
LOCATION:SH BSZ Technik Aue, Rudolf-Breitscheid-Str. 27, 08280 Aue-Bad
  Schlema
GEO:50.58659480000000000000;12.70611190000000000000
SUMMARY:RLO Mä.: VC Zschopau II - VC Gotha
CLASS:PUBLIC
DTSTART:20201108T130000Z
DTSTAMP:20201029T181500Z
END:VEVENT
END:VCALENDAR