BEGIN:VCALENDAR
VERSION:2.0
PRODID:VSD-Portal-www.volley.de
METHOD:PUBLISH
BEGIN:VEVENT
UID:541956-2da69939ed67427dc6bf3daba21059e9
X-WR-RELCALID:541956-2da69939ed67427dc6bf3daba21059e9
ORGANIZER:Volleyball
SEQUENCE:261140722
LOCATION:SH BSZ Zschopau, Johann-Gottlob-Pfaff-Str. 1, 09405 Zschopau
GEO:50.75981060000000000000;13.06828310000000000000
SUMMARY:RLO Mä.: VC Zschopau II - VC Dresden II
CLASS:PUBLIC
DTSTART:20201121T110000Z
DTSTAMP:20201029T183000Z
END:VEVENT
END:VCALENDAR