BEGIN:VCALENDAR
VERSION:2.0
PRODID:VSD-Portal-www.volley.de
METHOD:PUBLISH
BEGIN:VEVENT
UID:541964-2da69939ed67427dc6bf3daba21059e9
X-WR-RELCALID:541964-2da69939ed67427dc6bf3daba21059e9
ORGANIZER:Volleyball
SEQUENCE:261140721
LOCATION:SH Leplaystraße, Leplaystr. 11, 04103 Leipzig
GEO:51.33430000000000000000;12.37997000000000000000
SUMMARY:RLO Mä.: L.E. Volleys II - VC Zschopau II
CLASS:PUBLIC
DTSTART:20201128T150000Z
DTSTAMP:20201029T183000Z
END:VEVENT
END:VCALENDAR