BEGIN:VCALENDAR
VERSION:2.0
PRODID:VSD-Portal-www.volley.de
METHOD:PUBLISH
BEGIN:VEVENT
UID:542023-2da69939ed67427dc6bf3daba21059e9
X-WR-RELCALID:542023-2da69939ed67427dc6bf3daba21059e9
ORGANIZER:Volleyball
SEQUENCE:261140721
LOCATION:Sporthalle Gymnasium Bürgerwiese, Parkstraße 4, 01069 Dresden
 
GEO:51.03884000000000000000;13.74462000000000000000
SUMMARY:RLO Mä.: VC Dresden II - VC Zschopau II
CLASS:PUBLIC
DTSTART:20210123T190000Z
DTSTAMP:20210117T183000Z
END:VEVENT
END:VCALENDAR