BEGIN:VCALENDAR
VERSION:2.0
PRODID:VSD-Portal-www.volley.de
METHOD:PUBLISH
BEGIN:VEVENT
UID:542031-2da69939ed67427dc6bf3daba21059e9
X-WR-RELCALID:542031-2da69939ed67427dc6bf3daba21059e9
ORGANIZER:Volleyball
SEQUENCE:261140720
LOCATION:SH Ernestinum, Am Tivoli, 99867 Gotha
GEO:50.94367000000000000000;10.69877000000000000000
SUMMARY:RLO Mä.: VC Gotha - VC Zschopau II
CLASS:PUBLIC
DTSTART:20210206T140000Z
DTSTAMP:20210125T074000Z
END:VEVENT
END:VCALENDAR