BEGIN:VCALENDAR
VERSION:2.0
PRODID:VSD-Portal-www.volley.de
METHOD:PUBLISH
BEGIN:VEVENT
UID:542063-2da69939ed67427dc6bf3daba21059e9
X-WR-RELCALID:542063-2da69939ed67427dc6bf3daba21059e9
ORGANIZER:Volleyball
SEQUENCE:261141545
LOCATION:Neue Mehrzweckhalle Krostitz, Parkstraße, 04509 Krostitz
GEO:51.46601830000000000000;12.44964350000000000000
SUMMARY:RLO Mä.: Krostitzer SV - VSV Oelsnitz
CLASS:PUBLIC
DTSTART:20210410T170000Z
DTSTAMP:20200801T074100Z
END:VEVENT
END:VCALENDAR