BEGIN:VCALENDAR
VERSION:2.0
PRODID:VSD-Portal-www.volley.de
METHOD:PUBLISH
BEGIN:VEVENT
UID:542066-2da69939ed67427dc6bf3daba21059e9
X-WR-RELCALID:542066-2da69939ed67427dc6bf3daba21059e9
ORGANIZER:Volleyball
SEQUENCE:261141223
LOCATION:Sportschulzentrum Dresden, Messering 2a, 01067 Dresden
GEO:51.06825000000000000000;13.71900000000000000000
SUMMARY:RLO Mä.: Dresdner SSV - SVC Nordhausen
CLASS:PUBLIC
DTSTART:20210410T180000Z
DTSTAMP:20200801T074100Z
END:VEVENT
END:VCALENDAR