BEGIN:VCALENDAR
VERSION:2.0
PRODID:VSD-Portal-www.volley.de
METHOD:PUBLISH
BEGIN:VEVENT
UID:542617-2da69939ed67427dc6bf3daba21059e9
X-WR-RELCALID:542617-2da69939ed67427dc6bf3daba21059e9
ORGANIZER:Volleyball
SEQUENCE:261111125
LOCATION:Goerdeler-Gymnasium, Goerdelerstr., 33102 Paderborn
GEO:51.72349180000000000000;8.72782840000000000000
SUMMARY:RLW Fr.: SC Grün-Weiß Paderborn - SV Wachtberg
CLASS:PUBLIC
DTSTART:20210411T150000Z
DTSTAMP:20200801T074200Z
END:VEVENT
END:VCALENDAR