BEGIN:VCALENDAR
VERSION:2.0
PRODID:VSD-Portal-www.volley.de
METHOD:PUBLISH
BEGIN:VEVENT
UID:542073-2da69939ed67427dc6bf3daba21059e9
X-WR-RELCALID:542073-2da69939ed67427dc6bf3daba21059e9
ORGANIZER:Volleyball
SEQUENCE:261101034
LOCATION:Sporthalle  Hinter den Gärten (neu), Im Bruchfeld 45, 40764 L
 angenfeld
GEO:51.10611800000000000000;6.95518420000000000000
SUMMARY:RLW Fr.: SG Langenfeld - TV Gladbeck
CLASS:PUBLIC
DTSTART:20200906T130000Z
DTSTAMP:20200801T074100Z
END:VEVENT
BEGIN:VEVENT
UID:542105-2da69939ed67427dc6bf3daba21059e9
X-WR-RELCALID:542105-2da69939ed67427dc6bf3daba21059e9
ORGANIZER:Volleyball
SEQUENCE:261101034
LOCATION:Sporthalle  Hinter den Gärten (neu), Im Bruchfeld 45, 40764 L
 angenfeld
GEO:51.10611800000000000000;6.95518420000000000000
SUMMARY:RLW Fr.: SG Langenfeld - VC Eintracht Geldern
CLASS:PUBLIC
DTSTART:20200927T130000Z
DTSTAMP:20200801T074100Z
END:VEVENT
BEGIN:VEVENT
UID:542145-2da69939ed67427dc6bf3daba21059e9
X-WR-RELCALID:542145-2da69939ed67427dc6bf3daba21059e9
ORGANIZER:Volleyball
SEQUENCE:261101034
LOCATION:Sporthalle  Hinter den Gärten (neu), Im Bruchfeld 45, 40764 L
 angenfeld
GEO:51.10611800000000000000;6.95518420000000000000
SUMMARY:RLW Fr.: SG Langenfeld - TV Hörde II
CLASS:PUBLIC
DTSTART:20201011T130000Z
DTSTAMP:20200801T074100Z
END:VEVENT
BEGIN:VEVENT
UID:542181-2da69939ed67427dc6bf3daba21059e9
X-WR-RELCALID:542181-2da69939ed67427dc6bf3daba21059e9
ORGANIZER:Volleyball
SEQUENCE:261101034
LOCATION:Sporthalle  Hinter den Gärten (neu), Im Bruchfeld 45, 40764 L
 angenfeld
GEO:51.10611800000000000000;6.95518420000000000000
SUMMARY:RLW Fr.: SG Langenfeld - VV Humann Essen
CLASS:PUBLIC
DTSTART:20201025T140000Z
DTSTAMP:20200801T074100Z
END:VEVENT
BEGIN:VEVENT
UID:542216-2da69939ed67427dc6bf3daba21059e9
X-WR-RELCALID:542216-2da69939ed67427dc6bf3daba21059e9
ORGANIZER:Volleyball
SEQUENCE:261101034
LOCATION:Sporthalle  Hinter den Gärten (neu), Im Bruchfeld 45, 40764 L
 angenfeld
GEO:51.10611800000000000000;6.95518420000000000000
SUMMARY:RLW Fr.: SG Langenfeld - SC Union Lüdinghausen
CLASS:PUBLIC
DTSTART;VALUE=DATE:20201107
DTSTAMP:20201028T190000Z
DTEND;VALUE=DATE:20201108
END:VEVENT
BEGIN:VEVENT
UID:542274-2da69939ed67427dc6bf3daba21059e9
X-WR-RELCALID:542274-2da69939ed67427dc6bf3daba21059e9
ORGANIZER:Volleyball
SEQUENCE:261101034
LOCATION:Sporthalle  Hinter den Gärten (neu), Im Bruchfeld 45, 40764 L
 angenfeld
GEO:51.10611800000000000000;6.95518420000000000000
SUMMARY:RLW Fr.: SG Langenfeld - SC 99 Düsseldorf
CLASS:PUBLIC
DTSTART;VALUE=DATE:20201121
DTSTAMP:20201028T190000Z
DTEND;VALUE=DATE:20201122
END:VEVENT
BEGIN:VEVENT
UID:542326-2da69939ed67427dc6bf3daba21059e9
X-WR-RELCALID:542326-2da69939ed67427dc6bf3daba21059e9
ORGANIZER:Volleyball
SEQUENCE:261101034
LOCATION:Sporthalle  Hinter den Gärten (neu), Im Bruchfeld 45, 40764 L
 angenfeld
GEO:51.10611800000000000000;6.95518420000000000000
SUMMARY:RLW Fr.: SG Langenfeld - TuS Herten
CLASS:PUBLIC
DTSTART;VALUE=DATE:20201212
DTSTAMP:20201205T161500Z
DTEND;VALUE=DATE:20201213
END:VEVENT
BEGIN:VEVENT
UID:542386-2da69939ed67427dc6bf3daba21059e9
X-WR-RELCALID:542386-2da69939ed67427dc6bf3daba21059e9
ORGANIZER:Volleyball
SEQUENCE:261101034
LOCATION:Sporthalle  Hinter den Gärten (neu), Im Bruchfeld 45, 40764 L
 angenfeld
GEO:51.10611800000000000000;6.95518420000000000000
SUMMARY:RLW Fr.: SG Langenfeld - RC Borken-Hoxfeld II
CLASS:PUBLIC
DTSTART;VALUE=DATE:20210110
DTSTAMP:20201205T162500Z
DTEND;VALUE=DATE:20210111
END:VEVENT
BEGIN:VEVENT
UID:542450-2da69939ed67427dc6bf3daba21059e9
X-WR-RELCALID:542450-2da69939ed67427dc6bf3daba21059e9
ORGANIZER:Volleyball
SEQUENCE:261101034
LOCATION:Sporthalle  Hinter den Gärten (neu), Im Bruchfeld 45, 40764 L
 angenfeld
GEO:51.10611800000000000000;6.95518420000000000000
SUMMARY:RLW Fr.: SG Langenfeld - VTV Freier Grund
CLASS:PUBLIC
DTSTART:20210123T140000Z
DTSTAMP:20210109T161500Z
END:VEVENT
BEGIN:VEVENT
UID:542510-2da69939ed67427dc6bf3daba21059e9
X-WR-RELCALID:542510-2da69939ed67427dc6bf3daba21059e9
ORGANIZER:Volleyball
SEQUENCE:261101034
LOCATION:Sporthalle  Hinter den Gärten (neu), Im Bruchfeld 45, 40764 L
 angenfeld
GEO:51.10611800000000000000;6.95518420000000000000
SUMMARY:RLW Fr.: SG Langenfeld - PTSV Aachen II
CLASS:PUBLIC
DTSTART:20210206T180000Z
DTSTAMP:20210203T180000Z
END:VEVENT
BEGIN:VEVENT
UID:542551-2da69939ed67427dc6bf3daba21059e9
X-WR-RELCALID:542551-2da69939ed67427dc6bf3daba21059e9
ORGANIZER:Volleyball
SEQUENCE:261101034
LOCATION:Sporthalle  Hinter den Gärten (neu), Im Bruchfeld 45, 40764 L
 angenfeld
GEO:51.10611800000000000000;6.95518420000000000000
SUMMARY:RLW Fr.: SG Langenfeld - SG SV Werth / TuB Bocholt
CLASS:PUBLIC
DTSTART:20210220T180000Z
DTSTAMP:20200801T074200Z
END:VEVENT
BEGIN:VEVENT
UID:542589-2da69939ed67427dc6bf3daba21059e9
X-WR-RELCALID:542589-2da69939ed67427dc6bf3daba21059e9
ORGANIZER:Volleyball
SEQUENCE:261101034
LOCATION:Sporthalle  Hinter den Gärten (neu), Im Bruchfeld 45, 40764 L
 angenfeld
GEO:51.10611800000000000000;6.95518420000000000000
SUMMARY:RLW Fr.: SG Langenfeld - SV Wachtberg
CLASS:PUBLIC
DTSTART:20210314T140000Z
DTSTAMP:20200801T074200Z
END:VEVENT
BEGIN:VEVENT
UID:542622-2da69939ed67427dc6bf3daba21059e9
X-WR-RELCALID:542622-2da69939ed67427dc6bf3daba21059e9
ORGANIZER:Volleyball
SEQUENCE:261101034
LOCATION:Sporthalle  Hinter den Gärten (neu), Im Bruchfeld 45, 40764 L
 angenfeld
GEO:51.10611800000000000000;6.95518420000000000000
SUMMARY:RLW Fr.: SG Langenfeld - SC Grün-Weiß Paderborn
CLASS:PUBLIC
DTSTART:20210417T170000Z
DTSTAMP:20200801T074200Z
END:VEVENT
END:VCALENDAR