BEGIN:VCALENDAR
VERSION:2.0
PRODID:VSD-Portal-www.volley.de
METHOD:PUBLISH
BEGIN:VEVENT
UID:542704-2da69939ed67427dc6bf3daba21059e9
X-WR-RELCALID:542704-2da69939ed67427dc6bf3daba21059e9
ORGANIZER:Volleyball
SEQUENCE:261141357
LOCATION:Theodor-Storm-Dörfergemeinschaftsschule Hademarschen, Hafenst
 raße 20, 25557  Hanerau-Hademarschen
GEO:54.12817000000000000000;9.40760000000000000000
SUMMARY:LL Fr.: TSV Vorwärts Hademarschen - Heikendorfer SV
CLASS:PUBLIC
DTSTART:20210306T140000Z
DTSTAMP:20210217T082000Z
END:VEVENT
END:VCALENDAR