BEGIN:VCALENDAR
VERSION:2.0
PRODID:VSD-Portal-www.volley.de
METHOD:PUBLISH
BEGIN:VEVENT
UID:544011-2da69939ed67427dc6bf3daba21059e9
X-WR-RELCALID:544011-2da69939ed67427dc6bf3daba21059e9
ORGANIZER:Volleyball
SEQUENCE:261112146
LOCATION:SH 107. Oberschule Dresden, Geisingstraße 45, 01309 Dresden
GEO:51.03821140000000000000;13.78185590000000000000
SUMMARY:SK O Fr.: Post SV Dresden II - SV Motor Mickten II
CLASS:PUBLIC
DTSTART:20210123T130000Z
DTSTAMP:20200801T080900Z
END:VEVENT
END:VCALENDAR