BEGIN:VCALENDAR
VERSION:2.0
PRODID:VSD-Portal-www.volley.de
METHOD:PUBLISH
BEGIN:VEVENT
UID:544046-2da69939ed67427dc6bf3daba21059e9
X-WR-RELCALID:544046-2da69939ed67427dc6bf3daba21059e9
ORGANIZER:Volleyball
SEQUENCE:261132323
LOCATION:SH 84. Mittelschule, Stuttgarter Allee 5, 04209 Leipzig
GEO:51.31464000000000000000;12.29135000000000000000
SUMMARY:SK W Fr.: TSV Leipzig 76 II - L.O. Volleys
CLASS:PUBLIC
DTSTART:20201003T100000Z
DTSTAMP:20200801T080900Z
END:VEVENT
BEGIN:VEVENT
UID:544047-2da69939ed67427dc6bf3daba21059e9
X-WR-RELCALID:544047-2da69939ed67427dc6bf3daba21059e9
ORGANIZER:Volleyball
SEQUENCE:261132323
LOCATION:SH 84. Mittelschule, Stuttgarter Allee 5, 04209 Leipzig
GEO:51.31464000000000000000;12.29135000000000000000
SUMMARY:SK W Fr.: TSV Leipzig 76 II - Chemnitzer VV II
CLASS:PUBLIC
DTSTART:20201003T100000Z
DTSTAMP:20200801T080900Z
END:VEVENT
BEGIN:VEVENT
UID:544087-2da69939ed67427dc6bf3daba21059e9
X-WR-RELCALID:544087-2da69939ed67427dc6bf3daba21059e9
ORGANIZER:Volleyball
SEQUENCE:261132323
LOCATION:SH 84. Mittelschule, Stuttgarter Allee 5, 04209 Leipzig
GEO:51.31464000000000000000;12.29135000000000000000
SUMMARY:SK W Fr.: TSV Leipzig 76 II - SV Germania Hormersdorf
CLASS:PUBLIC
DTSTART:20210109T110000Z
DTSTAMP:20200801T080900Z
END:VEVENT
BEGIN:VEVENT
UID:544088-2da69939ed67427dc6bf3daba21059e9
X-WR-RELCALID:544088-2da69939ed67427dc6bf3daba21059e9
ORGANIZER:Volleyball
SEQUENCE:261132323
LOCATION:SH 84. Mittelschule, Stuttgarter Allee 5, 04209 Leipzig
GEO:51.31464000000000000000;12.29135000000000000000
SUMMARY:SK W Fr.: TSV Leipzig 76 II - SV 1861 Ortmannsdorf I
CLASS:PUBLIC
DTSTART:20210109T110000Z
DTSTAMP:20200801T080900Z
END:VEVENT
BEGIN:VEVENT
UID:544135-2da69939ed67427dc6bf3daba21059e9
X-WR-RELCALID:544135-2da69939ed67427dc6bf3daba21059e9
ORGANIZER:Volleyball
SEQUENCE:261132323
LOCATION:SH 84. Mittelschule, Stuttgarter Allee 5, 04209 Leipzig
GEO:51.31464000000000000000;12.29135000000000000000
SUMMARY:SK W Fr.: TSV Leipzig 76 II - SV Textima Süd I
CLASS:PUBLIC
DTSTART:20210410T100000Z
DTSTAMP:20200801T080900Z
END:VEVENT
BEGIN:VEVENT
UID:544136-2da69939ed67427dc6bf3daba21059e9
X-WR-RELCALID:544136-2da69939ed67427dc6bf3daba21059e9
ORGANIZER:Volleyball
SEQUENCE:261132323
LOCATION:SH 84. Mittelschule, Stuttgarter Allee 5, 04209 Leipzig
GEO:51.31464000000000000000;12.29135000000000000000
SUMMARY:SK W Fr.: TSV Leipzig 76 II - SV 1861 Ortmannsdorf I
CLASS:PUBLIC
DTSTART:20210410T100000Z
DTSTAMP:20200801T080900Z
END:VEVENT
END:VCALENDAR