BEGIN:VCALENDAR
VERSION:2.0
PRODID:VSD-Portal-www.volley.de
METHOD:PUBLISH
BEGIN:VEVENT
UID:544778-2da69939ed67427dc6bf3daba21059e9
X-WR-RELCALID:544778-2da69939ed67427dc6bf3daba21059e9
ORGANIZER:Volleyball
SEQUENCE:261140013
LOCATION:BBS Cuxhaven, Pestalozzistr. 44, 27474 Cuxhaven
GEO:53.86409000000000000000;8.68725000000000000000
SUMMARY:LL 3 Mä.: BC Cuxhaven - Geestemünder TV
CLASS:PUBLIC
DTSTART:20210207T100000Z
DTSTAMP:20200801T082100Z
END:VEVENT
END:VCALENDAR