BEGIN:VCALENDAR
VERSION:2.0
PRODID:VSD-Portal-www.volley.de
METHOD:PUBLISH
BEGIN:VEVENT
UID:544799-2da69939ed67427dc6bf3daba21059e9
X-WR-RELCALID:544799-2da69939ed67427dc6bf3daba21059e9
ORGANIZER:Volleyball
SEQUENCE:261132215
LOCATION:Gymnasium Athenaeum (Halle 4), Harsefelder Str. 40, 21680 Sta
 de
GEO:53.59000000000000000000;9.47243000000000000000
SUMMARY:LL 3 Mä.: VfL Stade - TSV Buxtehude-Altkloster II
CLASS:PUBLIC
DTSTART:20210313T140000Z
DTSTAMP:20200801T082100Z
END:VEVENT
END:VCALENDAR