BEGIN:VCALENDAR
VERSION:2.0
PRODID:VSD-Portal-www.volley.de
METHOD:PUBLISH
BEGIN:VEVENT
UID:548517-2da69939ed67427dc6bf3daba21059e9
X-WR-RELCALID:548517-2da69939ed67427dc6bf3daba21059e9
ORGANIZER:Volleyball
SEQUENCE:261091712
LOCATION:Julius-Hirsch-Halle, Kapellenstr. 41, 90762 Fürth
GEO:49.48146440000000000000;10.98874690000000000000
SUMMARY:3. L O Fr.: TV Fürth 1860 - Erfurt electronic
CLASS:PUBLIC
DTSTART:20201018T140000Z
DTSTAMP:20200822T185800Z
END:VEVENT
BEGIN:VEVENT
UID:548525-2da69939ed67427dc6bf3daba21059e9
X-WR-RELCALID:548525-2da69939ed67427dc6bf3daba21059e9
ORGANIZER:Volleyball
SEQUENCE:261091712
LOCATION:3-Feld-Halle in Eibelstadt, Am Sportpark 1, 97246 Eibelstadt
GEO:49.73300620000000000000;9.98953280000000000000
SUMMARY:3. L O Fr.: TSV Eibelstadt - TV Fürth 1860
CLASS:PUBLIC
DTSTART:20201107T183000Z
DTSTAMP:20210210T121500Z
END:VEVENT
BEGIN:VEVENT
UID:548530-2da69939ed67427dc6bf3daba21059e9
X-WR-RELCALID:548530-2da69939ed67427dc6bf3daba21059e9
ORGANIZER:Volleyball
SEQUENCE:261091712
LOCATION:Julius-Hirsch-Halle, Kapellenstr. 41, 90762 Fürth
GEO:49.48146440000000000000;10.98874690000000000000
SUMMARY:3. L O Fr.: TV Fürth 1860 - TSV Ansbach
CLASS:PUBLIC
DTSTART:20201115T150000Z
DTSTAMP:20210210T121500Z
END:VEVENT
BEGIN:VEVENT
UID:548533-2da69939ed67427dc6bf3daba21059e9
X-WR-RELCALID:548533-2da69939ed67427dc6bf3daba21059e9
ORGANIZER:Volleyball
SEQUENCE:261091712
LOCATION:Arena Unterhaching, Utzweg 1, 82008 Unterhaching
GEO:48.06089050000000000000;11.61474290000000000000
SUMMARY:3. L O Fr.: TSV Unterhaching - TV Fürth 1860
CLASS:PUBLIC
DTSTART:20201128T180000Z
DTSTAMP:20210210T121500Z
END:VEVENT
BEGIN:VEVENT
UID:548539-2da69939ed67427dc6bf3daba21059e9
X-WR-RELCALID:548539-2da69939ed67427dc6bf3daba21059e9
ORGANIZER:Volleyball
SEQUENCE:261091712
SUMMARY:3. L O Fr.: t.b.d. - TV Fürth 1860
CLASS:PUBLIC
DTSTART:20201205T180000Z
DTSTAMP:20210530T145500Z
END:VEVENT
BEGIN:VEVENT
UID:548544-2da69939ed67427dc6bf3daba21059e9
X-WR-RELCALID:548544-2da69939ed67427dc6bf3daba21059e9
ORGANIZER:Volleyball
SEQUENCE:261091712
LOCATION:Schulsporthalle Grund-und Mittelschule an der Führichstra. 53
 , Kirchseeoner Str. 5, 81671 München
GEO:48.11560090000000000000;11.61630090000000000000
SUMMARY:3. L O Fr.: VC DJK München-Ost-Herrsching - TV Fürth 1860
CLASS:PUBLIC
DTSTART:20201213T150000Z
DTSTAMP:20210530T145500Z
END:VEVENT
BEGIN:VEVENT
UID:548508-2da69939ed67427dc6bf3daba21059e9
X-WR-RELCALID:548508-2da69939ed67427dc6bf3daba21059e9
ORGANIZER:Volleyball
SEQUENCE:261091712
LOCATION:Julius-Hirsch-Halle, Kapellenstr. 41, 90762 Fürth
GEO:49.48146440000000000000;10.98874690000000000000
SUMMARY:3. L O Fr.: TV Fürth 1860 - VC DJK München-Ost-Herrsching
CLASS:PUBLIC
DTSTART:20201231T150000Z
DTSTAMP:20210530T145500Z
END:VEVENT
BEGIN:VEVENT
UID:548519-2da69939ed67427dc6bf3daba21059e9
X-WR-RELCALID:548519-2da69939ed67427dc6bf3daba21059e9
ORGANIZER:Volleyball
SEQUENCE:261091712
LOCATION:DJK-Sporthalle, Zwölf-Apostel-Platz 3, 86163 Augsburg
GEO:48.34341000000000000000;10.94577000000000000000
SUMMARY:3. L O Fr.: DJK Augsburg-Hochzoll - TV Fürth 1860
CLASS:PUBLIC
DTSTART:20201231T180000Z
DTSTAMP:20210210T123000Z
END:VEVENT
BEGIN:VEVENT
UID:548521-2da69939ed67427dc6bf3daba21059e9
X-WR-RELCALID:548521-2da69939ed67427dc6bf3daba21059e9
ORGANIZER:Volleyball
SEQUENCE:261091712
SUMMARY:3. L O Fr.: AllgäuStrom Volleys Sonthofen - TV Fürth 1860
CLASS:PUBLIC
DTSTART:20201231T183000Z
DTSTAMP:20210210T123000Z
END:VEVENT
BEGIN:VEVENT
UID:548551-2da69939ed67427dc6bf3daba21059e9
X-WR-RELCALID:548551-2da69939ed67427dc6bf3daba21059e9
ORGANIZER:Volleyball
SEQUENCE:261091712
LOCATION:Sportgymnasium Erfurt, Mozartallee 4, 99096 Erfurt
GEO:50.95835550000000000000;11.04016280000000000000
SUMMARY:3. L O Fr.: Erfurt electronic - TV Fürth 1860
CLASS:PUBLIC
DTSTART:20210116T180000Z
DTSTAMP:20210210T123000Z
END:VEVENT
BEGIN:VEVENT
UID:548557-2da69939ed67427dc6bf3daba21059e9
X-WR-RELCALID:548557-2da69939ed67427dc6bf3daba21059e9
ORGANIZER:Volleyball
SEQUENCE:261091712
LOCATION:Julius-Hirsch-Halle, Kapellenstr. 41, 90762 Fürth
GEO:49.48146440000000000000;10.98874690000000000000
SUMMARY:3. L O Fr.: TV Fürth 1860 - DJK Augsburg-Hochzoll
CLASS:PUBLIC
DTSTART:20210124T150000Z
DTSTAMP:20210210T121500Z
END:VEVENT
BEGIN:VEVENT
UID:548560-2da69939ed67427dc6bf3daba21059e9
X-WR-RELCALID:548560-2da69939ed67427dc6bf3daba21059e9
ORGANIZER:Volleyball
SEQUENCE:261091712
LOCATION:Julius-Hirsch-Halle, Kapellenstr. 41, 90762 Fürth
GEO:49.48146440000000000000;10.98874690000000000000
SUMMARY:3. L O Fr.: TV Fürth 1860 - AllgäuStrom Volleys Sonthofen
CLASS:PUBLIC
DTSTART:20210131T150000Z
DTSTAMP:20210210T113000Z
END:VEVENT
BEGIN:VEVENT
UID:548562-2da69939ed67427dc6bf3daba21059e9
X-WR-RELCALID:548562-2da69939ed67427dc6bf3daba21059e9
ORGANIZER:Volleyball
SEQUENCE:261091712
LOCATION:Julius-Hirsch-Halle, Kapellenstr. 41, 90762 Fürth
GEO:49.48146440000000000000;10.98874690000000000000
SUMMARY:3. L O Fr.: TV Fürth 1860 - TSV Eibelstadt
CLASS:PUBLIC
DTSTART:20210207T150000Z
DTSTAMP:20210210T113000Z
END:VEVENT
BEGIN:VEVENT
UID:548567-2da69939ed67427dc6bf3daba21059e9
X-WR-RELCALID:548567-2da69939ed67427dc6bf3daba21059e9
ORGANIZER:Volleyball
SEQUENCE:261091712
LOCATION:Sporthalle Theresiengymnasium, Schreibmüllerstr. 10, 91522 An
 sbach
GEO:49.31575230000000000000;10.55904980000000000000
SUMMARY:3. L O Fr.: TSV Ansbach - TV Fürth 1860
CLASS:PUBLIC
DTSTART:20210227T180000Z
DTSTAMP:20210210T114500Z
END:VEVENT
BEGIN:VEVENT
UID:548570-2da69939ed67427dc6bf3daba21059e9
X-WR-RELCALID:548570-2da69939ed67427dc6bf3daba21059e9
ORGANIZER:Volleyball
SEQUENCE:261091712
LOCATION:Julius-Hirsch-Halle, Kapellenstr. 41, 90762 Fürth
GEO:49.48146440000000000000;10.98874690000000000000
SUMMARY:3. L O Fr.: TV Fürth 1860 - TSV Unterhaching
CLASS:PUBLIC
DTSTART:20210314T150000Z
DTSTAMP:20210210T121500Z
END:VEVENT
BEGIN:VEVENT
UID:548577-2da69939ed67427dc6bf3daba21059e9
X-WR-RELCALID:548577-2da69939ed67427dc6bf3daba21059e9
ORGANIZER:Volleyball
SEQUENCE:261091712
LOCATION:Julius-Hirsch-Halle, Kapellenstr. 41, 90762 Fürth
GEO:49.48146440000000000000;10.98874690000000000000
SUMMARY:3. L O Fr.: TV Fürth 1860 - t.b.d.
CLASS:PUBLIC
DTSTART:20210328T140000Z
DTSTAMP:20210530T145500Z
END:VEVENT
END:VCALENDAR