BEGIN:VCALENDAR
VERSION:2.0
PRODID:VSD-Portal-www.volley.de
METHOD:PUBLISH
BEGIN:VEVENT
UID:548539-2da69939ed67427dc6bf3daba21059e9
X-WR-RELCALID:548539-2da69939ed67427dc6bf3daba21059e9
ORGANIZER:Volleyball
SEQUENCE:261120748
SUMMARY:3. L O Fr.: t.b.d. - TV Fürth 1860
CLASS:PUBLIC
DTSTART:20201205T180000Z
DTSTAMP:20210530T145500Z
END:VEVENT
BEGIN:VEVENT
UID:548540-2da69939ed67427dc6bf3daba21059e9
X-WR-RELCALID:548540-2da69939ed67427dc6bf3daba21059e9
ORGANIZER:Volleyball
SEQUENCE:261120748
SUMMARY:3. L O Fr.: t.b.d. - VC DJK München-Ost-Herrsching
CLASS:PUBLIC
DTSTART:20201206T140000Z
DTSTAMP:20210530T145500Z
END:VEVENT
BEGIN:VEVENT
UID:548515-2da69939ed67427dc6bf3daba21059e9
X-WR-RELCALID:548515-2da69939ed67427dc6bf3daba21059e9
ORGANIZER:Volleyball
SEQUENCE:261120748
SUMMARY:3. L O Fr.: t.b.d. - TSV Eibelstadt
CLASS:PUBLIC
DTSTART:20201231T180000Z
DTSTAMP:20210530T145500Z
END:VEVENT
BEGIN:VEVENT
UID:548546-2da69939ed67427dc6bf3daba21059e9
X-WR-RELCALID:548546-2da69939ed67427dc6bf3daba21059e9
ORGANIZER:Volleyball
SEQUENCE:261120748
SUMMARY:3. L O Fr.: t.b.d. - DJK Augsburg-Hochzoll
CLASS:PUBLIC
DTSTART:20210109T180000Z
DTSTAMP:20210530T145500Z
END:VEVENT
BEGIN:VEVENT
UID:548554-2da69939ed67427dc6bf3daba21059e9
X-WR-RELCALID:548554-2da69939ed67427dc6bf3daba21059e9
ORGANIZER:Volleyball
SEQUENCE:261120748
SUMMARY:3. L O Fr.: t.b.d. - TSV Unterhaching
CLASS:PUBLIC
DTSTART:20210123T180000Z
DTSTAMP:20210530T145500Z
END:VEVENT
BEGIN:VEVENT
UID:548556-2da69939ed67427dc6bf3daba21059e9
X-WR-RELCALID:548556-2da69939ed67427dc6bf3daba21059e9
ORGANIZER:Volleyball
SEQUENCE:261120748
SUMMARY:3. L O Fr.: t.b.d. - Erfurt electronic
CLASS:PUBLIC
DTSTART:20210124T140000Z
DTSTAMP:20210530T145500Z
END:VEVENT
BEGIN:VEVENT
UID:548568-2da69939ed67427dc6bf3daba21059e9
X-WR-RELCALID:548568-2da69939ed67427dc6bf3daba21059e9
ORGANIZER:Volleyball
SEQUENCE:261120748
SUMMARY:3. L O Fr.: t.b.d. - AllgäuStrom Volleys Sonthofen
CLASS:PUBLIC
DTSTART:20210306T180000Z
DTSTAMP:20210530T145500Z
END:VEVENT
BEGIN:VEVENT
UID:548571-2da69939ed67427dc6bf3daba21059e9
X-WR-RELCALID:548571-2da69939ed67427dc6bf3daba21059e9
ORGANIZER:Volleyball
SEQUENCE:261120748
SUMMARY:3. L O Fr.: t.b.d. - TSV Ansbach
CLASS:PUBLIC
DTSTART:20210313T180000Z
DTSTAMP:20210530T145500Z
END:VEVENT
END:VCALENDAR