BEGIN:VCALENDAR
VERSION:2.0
PRODID:VSD-Portal-www.volley.de
METHOD:PUBLISH
BEGIN:VEVENT
UID:162712-0b1cb5f82de24c98f11e829bddb1f0f9
X-WR-RELCALID:162712-0b1cb5f82de24c98f11e829bddb1f0f9
ORGANIZER:Volleyball
SEQUENCE:261092045
SUMMARY:KP Sch Fr.: SC Altenmünster II - SC Biberbach
CLASS:PUBLIC
DTSTART;VALUE=DATE:20161023
DTSTAMP:20161120T213700Z
DTEND;VALUE=DATE:20161024
END:VEVENT
BEGIN:VEVENT
UID:169721-0b1cb5f82de24c98f11e829bddb1f0f9
X-WR-RELCALID:169721-0b1cb5f82de24c98f11e829bddb1f0f9
ORGANIZER:Volleyball
SEQUENCE:261092045
SUMMARY:KP Sch Fr.: SC Biberbach - TSV Schwabmünchen
CLASS:PUBLIC
DTSTART;VALUE=DATE:20161211
DTSTAMP:20161205T113700Z
DTEND;VALUE=DATE:20161212
END:VEVENT
END:VCALENDAR