BEGIN:VCALENDAR
VERSION:2.0
PRODID:VSD-Portal-www.volley.de
METHOD:PUBLISH
BEGIN:VEVENT
UID:550148-2da69939ed67427dc6bf3daba21059e9
X-WR-RELCALID:550148-2da69939ed67427dc6bf3daba21059e9
ORGANIZER:Volleyball
SEQUENCE:261140656
LOCATION:Sportschulzentrum Dresden, Messering 2a, 01067 Dresden
GEO:51.06825000000000000000;13.71900000000000000000
SUMMARY:BL Fr.: SV Lok Nossen - Dresdner SSV IV
CLASS:PUBLIC
DTSTART:20201206T090000Z
DTSTAMP:20200823T142300Z
END:VEVENT
END:VCALENDAR