BEGIN:VCALENDAR
VERSION:2.0
PRODID:VSD-Portal-www.volley.de
METHOD:PUBLISH
BEGIN:VEVENT
UID:550208-2da69939ed67427dc6bf3daba21059e9
X-WR-RELCALID:550208-2da69939ed67427dc6bf3daba21059e9
ORGANIZER:Volleyball
SEQUENCE:261140307
LOCATION:SH BSZ Freital, Otto-Dix-Str.2 (gegenüber REAL), 01705 Freita
 l
GEO:51.00086670000000000000;13.65124130000000000000
SUMMARY:BL Fr.: Dresdner SSV III (SSR) - SV Lok Nossen
CLASS:PUBLIC
DTSTART:20210327T110000Z
DTSTAMP:20200823T142300Z
END:VEVENT
END:VCALENDAR