BEGIN:VCALENDAR
VERSION:2.0
PRODID:VSD-Portal-www.volley.de
METHOD:PUBLISH
BEGIN:VEVENT
UID:550212-2da69939ed67427dc6bf3daba21059e9
X-WR-RELCALID:550212-2da69939ed67427dc6bf3daba21059e9
ORGANIZER:Volleyball
SEQUENCE:261140504
LOCATION:SH Gymnasium Nossen, Seminarweg 4, 01683 Nossen
GEO:51.05763000000000000000;13.30842000000000000000
SUMMARY:BL Fr.: SV Lok Nossen - Königsteiner VG I
CLASS:PUBLIC
DTSTART:20210410T120000Z
DTSTAMP:20200924T111500Z
END:VEVENT
END:VCALENDAR