BEGIN:VCALENDAR
VERSION:2.0
PRODID:VSD-Portal-www.volley.de
METHOD:PUBLISH
BEGIN:VEVENT
UID:550122-2da69939ed67427dc6bf3daba21059e9
X-WR-RELCALID:550122-2da69939ed67427dc6bf3daba21059e9
ORGANIZER:Volleyball
SEQUENCE:261140309
LOCATION:SH Gymnasium Nossen, Seminarweg 4, 01683 Nossen
GEO:51.05763000000000000000;13.30842000000000000000
SUMMARY:BL Fr.: SV Lok Nossen - VSV BW Freital
CLASS:PUBLIC
DTSTART:20201107T130000Z
DTSTAMP:20200924T111500Z
END:VEVENT
BEGIN:VEVENT
UID:550123-2da69939ed67427dc6bf3daba21059e9
X-WR-RELCALID:550123-2da69939ed67427dc6bf3daba21059e9
ORGANIZER:Volleyball
SEQUENCE:261140309
LOCATION:SH Gymnasium Nossen, Seminarweg 4, 01683 Nossen
GEO:51.05763000000000000000;13.30842000000000000000
SUMMARY:BL Fr.: SV Lok Nossen - SV Blau-Gelb Stolpen I
CLASS:PUBLIC
DTSTART:20201107T130000Z
DTSTAMP:20200924T111500Z
END:VEVENT
BEGIN:VEVENT
UID:550179-2da69939ed67427dc6bf3daba21059e9
X-WR-RELCALID:550179-2da69939ed67427dc6bf3daba21059e9
ORGANIZER:Volleyball
SEQUENCE:261140309
LOCATION:SH Gymnasium Nossen, Seminarweg 4, 01683 Nossen
GEO:51.05763000000000000000;13.30842000000000000000
SUMMARY:BL Fr.: SV Lok Nossen - SG Großröhrsdorf
CLASS:PUBLIC
DTSTART:20210220T130000Z
DTSTAMP:20200924T111500Z
END:VEVENT
BEGIN:VEVENT
UID:550180-2da69939ed67427dc6bf3daba21059e9
X-WR-RELCALID:550180-2da69939ed67427dc6bf3daba21059e9
ORGANIZER:Volleyball
SEQUENCE:261140309
LOCATION:SH Gymnasium Nossen, Seminarweg 4, 01683 Nossen
GEO:51.05763000000000000000;13.30842000000000000000
SUMMARY:BL Fr.: SV Lok Nossen - TSV Frohsinn Seifersdorf I
CLASS:PUBLIC
DTSTART:20210220T130000Z
DTSTAMP:20200924T111500Z
END:VEVENT
BEGIN:VEVENT
UID:550197-2da69939ed67427dc6bf3daba21059e9
X-WR-RELCALID:550197-2da69939ed67427dc6bf3daba21059e9
ORGANIZER:Volleyball
SEQUENCE:261140309
LOCATION:SH Gymnasium Nossen, Seminarweg 4, 01683 Nossen
GEO:51.05763000000000000000;13.30842000000000000000
SUMMARY:BL Fr.: SV Lok Nossen - USV TU Dresden II
CLASS:PUBLIC
DTSTART:20210320T110000Z
DTSTAMP:20200924T111500Z
END:VEVENT
BEGIN:VEVENT
UID:550198-2da69939ed67427dc6bf3daba21059e9
X-WR-RELCALID:550198-2da69939ed67427dc6bf3daba21059e9
ORGANIZER:Volleyball
SEQUENCE:261140309
LOCATION:SH Gymnasium Nossen, Seminarweg 4, 01683 Nossen
GEO:51.05763000000000000000;13.30842000000000000000
SUMMARY:BL Fr.: SV Lok Nossen - Dresdner SSV IV
CLASS:PUBLIC
DTSTART:20210320T110000Z
DTSTAMP:20200924T111500Z
END:VEVENT
BEGIN:VEVENT
UID:550212-2da69939ed67427dc6bf3daba21059e9
X-WR-RELCALID:550212-2da69939ed67427dc6bf3daba21059e9
ORGANIZER:Volleyball
SEQUENCE:261140309
LOCATION:SH Gymnasium Nossen, Seminarweg 4, 01683 Nossen
GEO:51.05763000000000000000;13.30842000000000000000
SUMMARY:BL Fr.: SV Lok Nossen - Königsteiner VG I
CLASS:PUBLIC
DTSTART:20210410T120000Z
DTSTAMP:20200924T111500Z
END:VEVENT
BEGIN:VEVENT
UID:550213-2da69939ed67427dc6bf3daba21059e9
X-WR-RELCALID:550213-2da69939ed67427dc6bf3daba21059e9
ORGANIZER:Volleyball
SEQUENCE:261140309
LOCATION:SH Gymnasium Nossen, Seminarweg 4, 01683 Nossen
GEO:51.05763000000000000000;13.30842000000000000000
SUMMARY:BL Fr.: SV Lok Nossen - VC Dresden
CLASS:PUBLIC
DTSTART:20210410T120000Z
DTSTAMP:20200924T111500Z
END:VEVENT
END:VCALENDAR