BEGIN:VCALENDAR
VERSION:2.0
PRODID:VSD-Portal-www.volley.de
METHOD:PUBLISH
BEGIN:VEVENT
UID:551852-2da69939ed67427dc6bf3daba21059e9
X-WR-RELCALID:551852-2da69939ed67427dc6bf3daba21059e9
ORGANIZER:Volleyball
SEQUENCE:261100555
LOCATION:Bertha-Benz-Halle, Waldhofstrasse 77, 68169 Mannheim
GEO:49.50358050000000000000;8.47024040000000000000
SUMMARY:BKl 2 Fr.: VSG Mannheim DJK/MVC 4 - SG DJK/TSG Bruchsal 2
CLASS:PUBLIC
DTSTART:20200926T130000Z
DTSTAMP:20200910T060000Z
END:VEVENT
BEGIN:VEVENT
UID:551856-2da69939ed67427dc6bf3daba21059e9
X-WR-RELCALID:551856-2da69939ed67427dc6bf3daba21059e9
ORGANIZER:Volleyball
SEQUENCE:261100555
LOCATION:Sporthalle Bruchsal, Sportzentrum 3, 76646 Bruchsal
GEO:49.13311190000000000000;8.58725900000000000000
SUMMARY:BKl 2 Fr.: SG DJK/TSG Bruchsal 2 - VSG Rhein-Neckar EFN
CLASS:PUBLIC
DTSTART:20201010T120000Z
DTSTAMP:20200823T144000Z
END:VEVENT
BEGIN:VEVENT
UID:551857-2da69939ed67427dc6bf3daba21059e9
X-WR-RELCALID:551857-2da69939ed67427dc6bf3daba21059e9
ORGANIZER:Volleyball
SEQUENCE:261100555
LOCATION:Sporthalle Bruchsal, Sportzentrum 3, 76646 Bruchsal
GEO:49.13311190000000000000;8.58725900000000000000
SUMMARY:BKl 2 Fr.: SG DJK/TSG Bruchsal 2 - TG Laudenbach
CLASS:PUBLIC
DTSTART:20201010T120000Z
DTSTAMP:20200823T144000Z
END:VEVENT
BEGIN:VEVENT
UID:551864-2da69939ed67427dc6bf3daba21059e9
X-WR-RELCALID:551864-2da69939ed67427dc6bf3daba21059e9
ORGANIZER:Volleyball
SEQUENCE:261100555
LOCATION:Karl-Frei-Halle, Hardtwald Ring 16, 68723 Oftersheim
GEO:49.36543730000000000000;8.58527070000000000000
SUMMARY:BKl 2 Fr.: TSV Oftersheim - SG DJK/TSG Bruchsal 2
CLASS:PUBLIC
DTSTART:20201031T140000Z
DTSTAMP:20201029T151500Z
END:VEVENT
BEGIN:VEVENT
UID:551869-2da69939ed67427dc6bf3daba21059e9
X-WR-RELCALID:551869-2da69939ed67427dc6bf3daba21059e9
ORGANIZER:Volleyball
SEQUENCE:261100555
LOCATION:Marion-Dönhoff-Realschule, Wiesenplätz 7, 68782 Brühl
GEO:49.38890000000000000000;8.53113000000000000000
SUMMARY:BKl 2 Fr.: SG Ketsch-Brühl 2 - SG DJK/TSG Bruchsal 2
CLASS:PUBLIC
DTSTART:20201114T140000Z
DTSTAMP:20201114T115500Z
END:VEVENT
BEGIN:VEVENT
UID:551874-2da69939ed67427dc6bf3daba21059e9
X-WR-RELCALID:551874-2da69939ed67427dc6bf3daba21059e9
ORGANIZER:Volleyball
SEQUENCE:261100555
LOCATION:Grundschule Lützelsachsen, Weinheimer Str. 31, 69469 Weinheim
 
GEO:49.52836660000000000000;8.66641590000000000000
SUMMARY:BKl 2 Fr.: SG Lützelsachsen-Weinheim - SG DJK/TSG Bruchsal 2
CLASS:PUBLIC
DTSTART:20201122T120000Z
DTSTAMP:20201114T115500Z
END:VEVENT
BEGIN:VEVENT
UID:551877-2da69939ed67427dc6bf3daba21059e9
X-WR-RELCALID:551877-2da69939ed67427dc6bf3daba21059e9
ORGANIZER:Volleyball
SEQUENCE:261100555
LOCATION:Sporthalle SG Hohensachsen, Langewiesenweg 1, 69469 Weinheim-
 Hohensachsen
GEO:49.51755900000000000000;8.66454500000000000000
SUMMARY:BKl 2 Fr.: SG Hohensachsen 2 - SG DJK/TSG Bruchsal 2
CLASS:PUBLIC
DTSTART:20201129T100000Z
DTSTAMP:20201114T115500Z
END:VEVENT
BEGIN:VEVENT
UID:551882-2da69939ed67427dc6bf3daba21059e9
X-WR-RELCALID:551882-2da69939ed67427dc6bf3daba21059e9
ORGANIZER:Volleyball
SEQUENCE:261100555
LOCATION:Marion-Dönhoff-Realschule, Wiesenplätz 7, 68782 Brühl
GEO:49.38890000000000000000;8.53113000000000000000
SUMMARY:BKl 2 Fr.: SG Ketsch-Brühl 2 - SG DJK/TSG Bruchsal 2
CLASS:PUBLIC
DTSTART:20201212T140000Z
DTSTAMP:20201211T094000Z
END:VEVENT
BEGIN:VEVENT
UID:551886-2da69939ed67427dc6bf3daba21059e9
X-WR-RELCALID:551886-2da69939ed67427dc6bf3daba21059e9
ORGANIZER:Volleyball
SEQUENCE:261100555
LOCATION:Sporthalle SG Hohensachsen, Langewiesenweg 1, 69469 Weinheim-
 Hohensachsen
GEO:49.51755900000000000000;8.66454500000000000000
SUMMARY:BKl 2 Fr.: SG Hohensachsen 2 - SG DJK/TSG Bruchsal 2
CLASS:PUBLIC
DTSTART:20210116T140000Z
DTSTAMP:20200823T144000Z
END:VEVENT
BEGIN:VEVENT
UID:551893-2da69939ed67427dc6bf3daba21059e9
X-WR-RELCALID:551893-2da69939ed67427dc6bf3daba21059e9
ORGANIZER:Volleyball
SEQUENCE:261100555
LOCATION:Albert-Schweitzer-Realschule, Schnabel-Henning-Straße 4, 7664
 6 Bruchsal
GEO:49.12388810000000000000;8.58273710000000000000
SUMMARY:BKl 2 Fr.: SG DJK/TSG Bruchsal 2 - TSV Oftersheim
CLASS:PUBLIC
DTSTART:20210206T130000Z
DTSTAMP:20200823T144000Z
END:VEVENT
BEGIN:VEVENT
UID:551892-2da69939ed67427dc6bf3daba21059e9
X-WR-RELCALID:551892-2da69939ed67427dc6bf3daba21059e9
ORGANIZER:Volleyball
SEQUENCE:261100555
LOCATION:Albert-Schweitzer-Realschule, Schnabel-Henning-Straße 4, 7664
 6 Bruchsal
GEO:49.12388810000000000000;8.58273710000000000000
SUMMARY:BKl 2 Fr.: SG DJK/TSG Bruchsal 2 - VSG Rhein-Neckar EFN
CLASS:PUBLIC
DTSTART:20210206T130000Z
DTSTAMP:20200823T144000Z
END:VEVENT
BEGIN:VEVENT
UID:551899-2da69939ed67427dc6bf3daba21059e9
X-WR-RELCALID:551899-2da69939ed67427dc6bf3daba21059e9
ORGANIZER:Volleyball
SEQUENCE:261100555
LOCATION:Bertha-Benz-Halle, Waldhofstrasse 77, 68169 Mannheim
GEO:49.50358050000000000000;8.47024040000000000000
SUMMARY:BKl 2 Fr.: VSG Mannheim DJK/MVC 4 - SG DJK/TSG Bruchsal 2
CLASS:PUBLIC
DTSTART:20210220T140000Z
DTSTAMP:20200910T062000Z
END:VEVENT
BEGIN:VEVENT
UID:551904-2da69939ed67427dc6bf3daba21059e9
X-WR-RELCALID:551904-2da69939ed67427dc6bf3daba21059e9
ORGANIZER:Volleyball
SEQUENCE:261100555
LOCATION:Sporthalle Bruchsal, Sportzentrum 3, 76646 Bruchsal
GEO:49.13311190000000000000;8.58725900000000000000
SUMMARY:BKl 2 Fr.: SG DJK/TSG Bruchsal 2 - SG Lützelsachsen-Weinheim
CLASS:PUBLIC
DTSTART:20210327T130000Z
DTSTAMP:20200823T144000Z
END:VEVENT
BEGIN:VEVENT
UID:551905-2da69939ed67427dc6bf3daba21059e9
X-WR-RELCALID:551905-2da69939ed67427dc6bf3daba21059e9
ORGANIZER:Volleyball
SEQUENCE:261100555
LOCATION:Sporthalle Bruchsal, Sportzentrum 3, 76646 Bruchsal
GEO:49.13311190000000000000;8.58725900000000000000
SUMMARY:BKl 2 Fr.: SG DJK/TSG Bruchsal 2 - TG Laudenbach
CLASS:PUBLIC
DTSTART:20210327T130000Z
DTSTAMP:20200823T144000Z
END:VEVENT
END:VCALENDAR