BEGIN:VCALENDAR
VERSION:2.0
PRODID:VSD-Portal-www.volley.de
METHOD:PUBLISH
BEGIN:VEVENT
UID:555619-2da69939ed67427dc6bf3daba21059e9
X-WR-RELCALID:555619-2da69939ed67427dc6bf3daba21059e9
ORGANIZER:Volleyball
SEQUENCE:261091331
LOCATION:Tjede-Peckes-Grundschule, Wurster Landstr. 99, 27638 Wremen
GEO:53.64667000000000000000;8.50887000000000000000
SUMMARY:BL 1 Bre./Lün. Fr.: TuS Wremen 09 - SV Grün-Weiß Beckedorf
CLASS:PUBLIC
DTSTART:20210206T140000Z
DTSTAMP:20200823T150000Z
END:VEVENT
END:VCALENDAR