BEGIN:VCALENDAR
VERSION:2.0
PRODID:VSD-Portal-www.volley.de
METHOD:PUBLISH
BEGIN:VEVENT
UID:555621-2da69939ed67427dc6bf3daba21059e9
X-WR-RELCALID:555621-2da69939ed67427dc6bf3daba21059e9
ORGANIZER:Volleyball
SEQUENCE:261111124
LOCATION:Sporthalle am Panzenberg, Hans-Böckler-Str. 1 a, 28217 Bremen
 
GEO:53.08559000000000000000;8.79229000000000000000
SUMMARY:BL 1 Bre./Lün. Fr.: TV Bremen-Walle 1875 II - TV Hambergen
CLASS:PUBLIC
DTSTART:20210213T140000Z
DTSTAMP:20200823T150000Z
END:VEVENT
END:VCALENDAR