BEGIN:VCALENDAR
VERSION:2.0
PRODID:VSD-Portal-www.volley.de
METHOD:PUBLISH
BEGIN:VEVENT
UID:164627-0b1cb5f82de24c98f11e829bddb1f0f9
X-WR-RELCALID:164627-0b1cb5f82de24c98f11e829bddb1f0f9
ORGANIZER:Volleyball
SEQUENCE:261110032
SUMMARY:Kreispokal Mä.: SV W.-Burghausen - TUS Bad Aibling
CLASS:PUBLIC
DTSTART;VALUE=DATE:20161021
DTSTAMP:20170902T132500Z
DTEND;VALUE=DATE:20161022
END:VEVENT
END:VCALENDAR