BEGIN:VCALENDAR
VERSION:2.0
PRODID:VSD-Portal-www.volley.de
METHOD:PUBLISH
BEGIN:VEVENT
UID:164645-0b1cb5f82de24c98f11e829bddb1f0f9
X-WR-RELCALID:164645-0b1cb5f82de24c98f11e829bddb1f0f9
ORGANIZER:Volleyball
SEQUENCE:261110032
SUMMARY:Kreispokal Mä.: TUS Bad Aibling - SV Bruckmühl
CLASS:PUBLIC
DTSTART;VALUE=DATE:20170206
DTSTAMP:20170902T132600Z
DTEND;VALUE=DATE:20170207
END:VEVENT
END:VCALENDAR